BEGIN:VCALENDAR
VERSION:2.0
PRODID:-//ChamberMaster//Event Calendar 2.0//EN
METHOD:PUBLISH
X-PUBLISHED-TTL:P3D
REFRESH-INTERVAL:P3D
CALSCALE:GREGORIAN
BEGIN:VEVENT
DTSTART:20161018T160000Z
DTEND:20161019T030000Z
X-MICROSOFT-CDO-ALLDAYEVENT:FALSE
SUMMARY:Five Guys Community Fundraiser- YMCA
DESCRIPTION:Five Guys Burgers and Fries in Michigan City is hosting a fundraiser for the Y on Tuesday\, October 18th! We will receive 20% back from your dine-in or carry out purchase PLUS an additional $1 for every milkshake when you present a printed or electronic version of this flyer.\n\n\n\nPLEASE BE SURE TO SHOW OUR FLYER TO MAKE SURE WE RECEIVE CREDIT FOR YOUR ORDER! You can click the URL above for a PDF of the flyer.
X-ALT-DESC;FMTTYPE=text/html:<span style="color: rgb(75\, 79\, 86)\; font-family: helvetica\, arial\, sans-serif\; font-size: 14px\;">Five Guys Burgers and Fries in Michigan City is hosting a fundraiser for the Y on Tuesday\, October 18th! We will receive 20% back from your dine-in or carry out purchase PLUS an additional $1 for every milkshake when you present a printed or electronic version of this flyer.</span><br style="color: rgb(75\, 79\, 86)\; font-family: helvetica\, arial\, sans-serif\; font-size: 14px\;" />\n<br style="color: rgb(75\, 79\, 86)\; font-family: helvetica\, arial\, sans-serif\; font-size: 14px\;" />\n<span style="color: rgb(75\, 79\, 86)\; font-family: helvetica\, arial\, sans-serif\; font-size: 14px\;">PLEASE BE SURE TO SHOW OUR FLYER TO MAKE SURE WE RECEIVE CREDIT FOR YOUR ORDER! You can click the URL above for a PDF of the flyer.</span>
LOCATION:5226 Franklin Street Michigan City
UID:e.1949.2640
SEQUENCE:3
DTSTAMP:20260425T223146Z
URL:https://members.laportepartnership.com/events/details/five-guys-community-fundraiser-ymca-2640
END:VEVENT

END:VCALENDAR
