BEGIN:VCALENDAR
VERSION:2.0
PRODID:-//ChamberMaster//Event Calendar 2.0//EN
METHOD:PUBLISH
X-PUBLISHED-TTL:P3D
REFRESH-INTERVAL:P3D
CALSCALE:GREGORIAN
BEGIN:VEVENT
DTSTART:20190817T230000Z
DTEND:20190818T020000Z
X-MICROSOFT-CDO-ALLDAYEVENT:FALSE
SUMMARY:Flower Power Funkadelic Fest
DESCRIPTION:Get groovy\, baby! It's all about Flower Power at the Gardens at this 21+ fundraising event. The late 60's to early 70's theme is far out!  Hang loose or groove to the music by Johnny V and the Wild Flowers.  Bell bottoms\, go-go boots\, mini's and foxy attire are optional.  Peace\, love and Flower Power! Tickets are $45 and includes beer/wine from local breweries and winery\, 3 sample cocktails\, and light appetizers. This is a 21+ event.
X-ALT-DESC;FMTTYPE=text/html:<p><span style="background-color:transparent\; color:rgb(0\, 0\, 0)\; font-family:times new roman\; font-size:12pt">Get groovy\, baby! It&rsquo\;s all about Flower Power at the Gardens at this 21+ fundraising event. The late 60&rsquo\;s to early 70&rsquo\;s theme is far out!&nbsp\; Hang loose or groove to the music by </span><em>Johnny V</em><span style="background-color:transparent\; color:rgb(0\, 0\, 0)\; font-family:times new roman\; font-size:12pt"> and the </span><em>Wild Flowers</em><span style="background-color:transparent\; color:rgb(0\, 0\, 0)\; font-family:times new roman\; font-size:12pt">. &nbsp\;Bell bottoms\, go-go boots\, mini&rsquo\;s and foxy attire are optional. &nbsp\;Peace\, love and Flower Power! Tickets are $45 and includes beer/wine from local breweries and winery\, 3 sample cocktails\, and light appetizers. This is a 21+ event.</span></p>\n\n<div>&nbsp\;</div>\n
LOCATION:Friendship Botanic Gardens 2055 East US Highway 12 Michigan City\, IN 46360
UID:e.1949.4325
SEQUENCE:3
DTSTAMP:20260423T114042Z
URL:https://members.laportepartnership.com/events/details/flower-power-funkadelic-fest-4325
END:VEVENT

END:VCALENDAR
