BEGIN:VCALENDAR
VERSION:2.0
PRODID:-//ChamberMaster//Event Calendar 2.0//EN
METHOD:PUBLISH
X-PUBLISHED-TTL:P3D
REFRESH-INTERVAL:P3D
CALSCALE:GREGORIAN
BEGIN:VEVENT
DTSTART:20160916T161500Z
DTEND:20160916T173000Z
X-MICROSOFT-CDO-ALLDAYEVENT:FALSE
SUMMARY:FLSA Overtime Rule Luncheon and Q&A
DESCRIPTION:Join the Greater La Porte Chamber of Commerce for a luncheon and Q&A on the new Fair Labor Standards Act overtime rule. The event will take place at Etropal Restaurant & Lounge on Friday\, September 16 with registration beginning at 11:15 a.m.\n\n\n\nNora Akins of Strategic Management\, LLC will present infromation at this event. Nora T. Akins\, MS\, SPHR\, SHRM-SCP is a human resource compliance and performance consultant. Nora invests herself through continuing education and active participation in associations. Nora is certified through the Society of Human Resource Management and the Human Resource Certification Institute as a Senior Professional in Human Resources. She is also certified in Performance Consulting through Exemplary Performance and Human Synergistics.\n\n\n\nNora will provide information about the upcoming changes to the law and will do a Q&A session to answer further questions at this luncheon.\n\n\n\nThe cost to attend is $25 for members and $30 for non-members. Registration is encouraged and can be done by clicking the link above.
X-ALT-DESC;FMTTYPE=text/html:Join the Greater La Porte Chamber of Commerce for a luncheon and Q&amp\;A on the new Fair Labor Standards Act overtime rule. The event will take place at Etropal Restaurant &amp\; Lounge on Friday\, September 16 with registration beginning at 11:15 a.m.<br />\n<br />\nNora Akins of Strategic Management\, LLC will present infromation at this event. Nora T. Akins\, MS\, SPHR\, SHRM-SCP is a human resource compliance and performance consultant. Nora invests herself through continuing education and active participation in associations. Nora is certified through the Society of Human Resource Management and the Human Resource Certification Institute as a Senior Professional in Human Resources. She is also certified in Performance Consulting through Exemplary Performance and Human Synergistics.<br />\n<br />\nNora will provide information about the upcoming changes to the law and will do a Q&amp\;A session to answer further questions at this luncheon.<br />\n<br />\nThe cost to attend is $25 for members and $30 for non-members. Registration is encouraged and can be done by clicking the link above.
LOCATION:Etropal Restaurant & Lounge 701 Lincolnway La Porte
UID:e.1949.2621
SEQUENCE:3
DTSTAMP:20260426T003608Z
URL:https://members.laportepartnership.com/events/details/flsa-overtime-rule-luncheon-and-q-a-2621
END:VEVENT

END:VCALENDAR
