BEGIN:VCALENDAR
VERSION:2.0
PRODID:-//ChamberMaster//Event Calendar 2.0//EN
METHOD:PUBLISH
X-PUBLISHED-TTL:P3D
REFRESH-INTERVAL:P3D
CALSCALE:GREGORIAN
BEGIN:VEVENT
DTSTART;VALUE=DATE:20190610
DTEND;VALUE=DATE:20190616
TRANSP:TRANSPARENT
X-MICROSOFT-CDO-ALLDAYEVENT:TRUE
SUMMARY:Fort La Play Porte Build 2019
DESCRIPTION:Are your ready to BUILD the future of play in La Porte? The Fort La Play Porte Redesign and Rebuild Steering Committee has been hard at work to ensure we are ready for a fun\, exciting and fulfilling build week from June 10-15. We are fully funded\, thanks to the generosity of our community\, and now all we need are volunteers to build a newly renovated play structure for the next generation of children.\n\n \n\nThe committee has been planning build shifts\, food menus\, child care activities and more. Most importantly\, we're focusing on YOU\, our community\, as we're getting ever closer and more excited to host you on the job site. We're looking for lots of volunteers of all levels of skill\, as there are many ways you'll be able to help once you get on site. (Don't worry if you don't consider yourself a master builder.) Building materials will need to be prepped\, sorted\, carried\, replenished and assembled in place on the playground.\n\n \n\nWe have a few unique volunteer needs to fill for the Fort La Play Porte rebuild:\n\n          CREW LEADERS: We're looking for 8-10 community members with solid construction/carpentry experience who can lead our volunteer crews through the week.\n\n          FOOD COMMITTEE: Help to organize\, set up\, and serve food and drinks to our volunteers on the build site.\n\n          CHILD CARE COMMITTEE: Supervise and entertain the kids of our volunteers during their build shifts.\n\n \n\nWhat can you look forward to as a volunteer to rebuild Fort La Play Porte? We'll have meals on site (lunch and dinner) and we'll also have child care available for your kids during your shift. Most importantly\, you can count on this being a fun and unforgettable experience for everyone involved.\n\n \nReady to sign up? Shifts run from 8 a.m.-noon\, 12:30 p.m.-4:30 p.m. and 5-8:30 p.m. each day of the build. Register for a shift or fill out our volunteer interest form at www.fortlaplayporte.com. Businesses and organizations are encouraged to schedule as groups. For more information\, contact Volunteer Coordinator Lindsey Cooper at lindsey@fortlaplayporte.com
X-ALT-DESC;FMTTYPE=text/html:<p style="margin: 0px\; font-family: Calibri\, Helvetica\, sans-serif\; font-size: 16px\; background-color: rgb(255\, 255\, 255)\; line-height: normal\;"><span style="margin: 0px\; color: rgb(29\, 33\, 41)\; font-size: 12pt\;"><i>Are your ready to BUILD the future of play in La Porte? The Fort La Play Porte Redesign and Rebuild Steering Committee has been hard at work to ensure we are ready for a fun\, exciting and fulfilling build week from June 10-15. We are fully funded\, thanks to the generosity of our community\, and now all we need are volunteers to build a newly renovated play structure for the next generation of children.</i></span></p>\n\n<p style="margin: 0px\; font-family: Calibri\, Helvetica\, sans-serif\; font-size: 16px\; background-color: rgb(255\, 255\, 255)\; line-height: normal\;"><span style="margin: 0px\; color: rgb(29\, 33\, 41)\; font-size: 12pt\;"><i>&nbsp\;</i></span></p>\n\n<p style="margin: 0px\; font-family: Calibri\, Helvetica\, sans-serif\; font-size: 16px\; background-color: rgb(255\, 255\, 255)\; line-height: normal\;"><span style="margin: 0px\; color: rgb(29\, 33\, 41)\; font-size: 12pt\;"><i>The committee has been planning build shifts\, food menus\, child care activities and more. Most importantly\, we&rsquo\;re focusing on YOU\, our community\, as we&rsquo\;re getting ever closer and more excited to host you on the job site. We&rsquo\;re looking for lots of volunteers of all levels of skill\, as there are many ways you&rsquo\;ll be able to help once you get on site. (Don&rsquo\;t worry if you don&rsquo\;t consider yourself a master builder.) Building materials will need to be prepped\, sorted\, carried\, replenished and assembled in place on the playground.</i></span></p>\n\n<p style="margin: 0px\; font-family: Calibri\, Helvetica\, sans-serif\; font-size: 16px\; background-color: rgb(255\, 255\, 255)\; line-height: normal\;"><span style="margin: 0px\; color: rgb(29\, 33\, 41)\; font-size: 12pt\;"><i>&nbsp\;</i></span></p>\n\n<p style="margin: 0px\; font-family: Calibri\, Helvetica\, sans-serif\; font-size: 16px\; background-color: rgb(255\, 255\, 255)\; line-height: normal\;"><span style="margin: 0px\; color: rgb(29\, 33\, 41)\; font-size: 12pt\;"><i>We have a few unique volunteer needs to fill for the Fort La Play Porte rebuild:</i></span></p>\n\n<p style="margin: 0px 0px 0px 48px\; font-family: Calibri\, Helvetica\, sans-serif\; font-size: 16px\; background-color: rgb(255\, 255\, 255)\; line-height: normal\;"><i><span style="margin: 0px\; color: rgb(29\, 33\, 41)\; font-family: Symbol\; font-size: 10.5pt\;"><span style="margin: 0px\;"><span style="font-family: Calibri\, Helvetica\, sans-serif\; font-size: 12pt\;">&middot\;</span><span style="margin: 0px\; line-height: normal\; font-family: Calibri\, Helvetica\, sans-serif\; font-size: 12pt\; font-variant-numeric: normal\; font-variant-east-asian: normal\; font-stretch: normal\;">&nbsp\;&nbsp\;&nbsp\;&nbsp\;&nbsp\;&nbsp\;&nbsp\;&nbsp\;&nbsp\;</span></span></span><span style="margin: 0px\; color: rgb(29\, 33\, 41)\; font-size: 12pt\;">CREW LEADERS: We&rsquo\;re looking for 8-10 community members with solid construction/carpentry experience who can lead our volunteer crews through the week.</span></i></p>\n\n<p style="margin: 0px 0px 0px 48px\; font-family: Calibri\, Helvetica\, sans-serif\; font-size: 16px\; background-color: rgb(255\, 255\, 255)\; line-height: normal\;"><i><span style="margin: 0px\; color: rgb(29\, 33\, 41)\; font-family: Symbol\; font-size: 10.5pt\;"><span style="margin: 0px\;"><span style="font-family: Calibri\, Helvetica\, sans-serif\; font-size: 12pt\;">&middot\;</span><span style="margin: 0px\; line-height: normal\; font-family: Calibri\, Helvetica\, sans-serif\; font-size: 12pt\; font-variant-numeric: normal\; font-variant-east-asian: normal\; font-stretch: normal\;">&nbsp\;&nbsp\;&nbsp\;&nbsp\;&nbsp\;&nbsp\;&nbsp\;&nbsp\;&nbsp\;</span></span></span><span style="margin: 0px\; color: rgb(29\, 33\, 41)\; font-size: 12pt\;">FOOD COMMITTEE: Help to organize\, set up\, and serve food and drinks to our volunteers on the build site.</span></i></p>\n\n<p style="margin: 0px 0px 0px 48px\; font-family: Calibri\, Helvetica\, sans-serif\; font-size: 16px\; background-color: rgb(255\, 255\, 255)\; line-height: normal\;"><i><span style="margin: 0px\; color: rgb(29\, 33\, 41)\; font-family: Symbol\; font-size: 10.5pt\;"><span style="margin: 0px\;"><span style="font-family: Calibri\, Helvetica\, sans-serif\; font-size: 12pt\;">&middot\;</span><span style="margin: 0px\; line-height: normal\; font-family: Calibri\, Helvetica\, sans-serif\; font-size: 12pt\; font-variant-numeric: normal\; font-variant-east-asian: normal\; font-stretch: normal\;">&nbsp\;&nbsp\;&nbsp\;&nbsp\;&nbsp\;&nbsp\;&nbsp\;&nbsp\;&nbsp\;</span></span></span><span style="margin: 0px\; color: rgb(29\, 33\, 41)\; font-size: 12pt\;">CHILD CARE COMMITTEE: Supervise and entertain the kids of our volunteers during their build shifts.</span></i></p>\n\n<p style="margin: 0px\; font-family: Calibri\, Helvetica\, sans-serif\; font-size: 16px\; background-color: rgb(255\, 255\, 255)\; line-height: normal\;"><span style="margin: 0px\; color: rgb(29\, 33\, 41)\; font-size: 12pt\;"><i>&nbsp\;</i></span></p>\n\n<p style="margin: 0px\; font-family: Calibri\, Helvetica\, sans-serif\; font-size: 16px\; background-color: rgb(255\, 255\, 255)\; line-height: normal\;"><span style="margin: 0px\; color: rgb(29\, 33\, 41)\; font-size: 12pt\;"><i>What can you look forward to as a volunteer to rebuild Fort La Play Porte? We&rsquo\;ll have meals on site (lunch and dinner) and we&rsquo\;ll also have child care available for your kids during your shift. Most importantly\, you can count on this being a fun and unforgettable experience for everyone involved.</i></span></p>\n\n<p style="margin: 0px\; font-family: Calibri\, Helvetica\, sans-serif\; font-size: 16px\; background-color: rgb(255\, 255\, 255)\; line-height: normal\;"><span style="margin: 0px\; color: rgb(29\, 33\, 41)\; font-size: 12pt\;"><i>&nbsp\;</i></span></p>\n<i style="font-family: Calibri\, Helvetica\, sans-serif\; font-size: 16px\; background-color: rgb(255\, 255\, 255)\;"><span style="margin: 0px\; color: rgb(29\, 33\, 41)\; line-height: 17.12px\; font-size: 12pt\;">Ready to sign up? Shifts run from 8 a.m.-noon\, 12:30 p.m.-4:30 p.m. and 5-8:30 p.m. each day of the build. Register for a shift or fill out our volunteer interest form at&nbsp\;</span><span style="margin: 0px\; line-height: 14.98px\; font-family: Helvetica\, sans-serif\; font-size: 10.5pt\;"><span style="font-family: Calibri\, Helvetica\, sans-serif\; font-size: 12pt\;"><a data-saferedirecturl="https://www.google.com/url?q=http://www.fortlaplayporte.com&amp\;source=gmail&amp\;ust=1558446079161000&amp\;usg=AFQjCNE6g-TzNdslszzObMGenVqrpL0Xig" href="http://www.fortlaplayporte.com/" style="color: rgb(17\, 85\, 204)\;" target="_blank">www.fortlaplayporte.com</a></span><span style="margin: 0px\; color: rgb(29\, 33\, 41)\; font-family: Calibri\, Helvetica\, sans-serif\; font-size: 12pt\;">. Businesses and organizations are encouraged to schedule as groups. For more information\, contact Volunteer Coordinator Lindsey Cooper at&nbsp\;<a href="mailto:lindsey@fortlaplayporte.com" style="color: rgb(17\, 85\, 204)\;" target="_blank">lindsey@fortlaplayporte.com</a></span></span></i>
LOCATION:Fort La Play Porte 2150 A Street La Porte
UID:e.1949.4364
SEQUENCE:3
DTSTAMP:20260423T133108Z
URL:https://members.laportepartnership.com/events/details/fort-la-play-porte-build-2019-4364
END:VEVENT

END:VCALENDAR
