BEGIN:VCALENDAR
VERSION:2.0
PRODID:-//ChamberMaster//Event Calendar 2.0//EN
METHOD:PUBLISH
X-PUBLISHED-TTL:P3D
REFRESH-INTERVAL:P3D
CALSCALE:GREGORIAN
BEGIN:VEVENT
DTSTART:20180301T230000Z
DTEND:20180302T000000Z
X-MICROSOFT-CDO-ALLDAYEVENT:FALSE
SUMMARY:Four Seasons Asian Fusion Ribbon Cutting
DESCRIPTION:Join the Greater La Porte Chamber of Commerce for a sneak peek at the new Downtown La Porte restaurant Four Seasons Asian Fusion. The Chamber will host a ribbon cutting on March 1 at 5:00 p.m. at 701 Lincolnway in La Porte. Join in to welcome the new business and try out a new culinary option in the community! Registration is highly encouraged for this event.\n\nFour Season Asian Fusion is a Chinese\, Japanese and Sushi bar restaurant. They aim to provide a fresh and affordable dining experience with a clean and casual atmosphere. All of their food is made from scratch using high quality ingredients. They're proud of being new addition to the La Porte community.\n\nTo learn more about Four Seasons Asian Fusion\, go to their Facebook page or visit their website at www.4seasonsasianfusion.com.
X-ALT-DESC;FMTTYPE=text/html:<span style="font-family:georgia\,serif\;"><span style="font-size:12.0pt\;">Join the Greater La Porte Chamber of Commerce for a sneak peek at the new Downtown La Porte restaurant Four Seasons Asian Fusion. The Chamber will host a ribbon cutting on March 1 at 5:00 p.m. at 701 Lincolnway in La Porte. Join in to welcome the new business and try out a new culinary option in the community! Registration is highly encouraged for this event.</span></span><br />\n<span style="font-family:georgia\,serif\;"><span style="font-size:12.0pt\;">Four Season Asian Fusion is a Chinese\, Japanese and Sushi bar restaurant. They aim to provide a fresh and affordable dining experience with a clean and casual atmosphere. All of their food is made from scratch using high quality ingredients. They&#39\;re proud of being new addition to the La Porte community.</span></span><br />\n<span style="font-family:georgia\,serif\;"><span style="font-size:12.0pt\;">To learn more about Four Seasons Asian Fusion\, go to their Facebook page or visit their website at www.4seasonsasianfusion.com.&nbsp\;</span></span>
LOCATION:Four Seasons Asian Fusion 701 Lincolnway
UID:e.1949.3063
SEQUENCE:3
DTSTAMP:20260424T134617Z
URL:https://members.laportepartnership.com/events/details/four-seasons-asian-fusion-ribbon-cutting-3063
END:VEVENT

END:VCALENDAR
