BEGIN:VCALENDAR
VERSION:2.0
PRODID:-//ChamberMaster//Event Calendar 2.0//EN
METHOD:PUBLISH
X-PUBLISHED-TTL:P3D
REFRESH-INTERVAL:P3D
CALSCALE:GREGORIAN
BEGIN:VEVENT
DTSTART:20171205T160000Z
DTEND:20171205T210000Z
X-MICROSOFT-CDO-ALLDAYEVENT:FALSE
SUMMARY:Four Winds Casino Hiring Event at WorkOne La Porte
DESCRIPTION:Four Winds Casinos Hiring Event\n\nTuesday\, December 5\, 2017\n\n10:00 a.m.-3:00 p.m. (CST)\n\nPlease join us for a hiring event with open interviews! Four Winds representatives will be on-site looking to fill a variety of positions in culinary services. Four Winds' philosophy is to create an environment that encourages and rewards team effort\, and to develop a culture that is goal-oriented\, success drive\, and consistently fair to employees\, guests\, and community members.\n\nAvailable Positions:\n\nGo to www.indianacareerconnect.com and search for job order 8952069 for more details about open positions.\n\nImportant Information:\n\n-Employer will be present\n\n-Be prepared for on-site interviews\n\n-Bring updated resume\n\n-Dress for success\n\nApply online at www.fourwindscasino.com/general/employment.php before attending the hiring event.\n\nLocation:\n\nWorkOne La Porte\n\n300 Legacy Plaza West\n\nLa Porte\, IN 46350\n\nQuestions? Contact Becky at 219-762-6592\, Ext. 241 or braderstorf@gotoworkonenw.com
X-ALT-DESC;FMTTYPE=text/html:Four Winds Casinos Hiring Event<br />\nTuesday\, December 5\, 2017<br />\n10:00 a.m.-3:00 p.m. (CST)<br />\nPlease join us for a hiring event with open interviews! Four Winds representatives will be on-site looking to fill a variety of positions in culinary services. Four Winds&#39\; philosophy is to create an environment that encourages and rewards team effort\, and to develop a culture that is goal-oriented\, success drive\, and consistently fair to employees\, guests\, and community members.<br />\nAvailable Positions:<br />\nGo to www.indianacareerconnect.com and search for job order 8952069 for more details about open positions.<br />\nImportant Information:<br />\n-Employer will be present<br />\n-Be prepared for on-site interviews<br />\n-Bring updated resume<br />\n-Dress for success<br />\nApply online at www.fourwindscasino.com/general/employment.php before attending the hiring event.<br />\nLocation:<br />\nWorkOne La Porte<br />\n300 Legacy Plaza West<br />\nLa Porte\, IN 46350<br />\nQuestions? Contact Becky at 219-762-6592\, Ext. 241 or braderstorf@gotoworkonenw.com
LOCATION:WorkOne La Porte 300 Legacy Plaza West La Porte
UID:e.1949.2973
SEQUENCE:3
DTSTAMP:20260424T193526Z
URL:https://members.laportepartnership.com/events/details/four-winds-casino-hiring-event-at-workone-la-porte-2973
END:VEVENT

END:VCALENDAR
