BEGIN:VCALENDAR
VERSION:2.0
PRODID:-//ChamberMaster//Event Calendar 2.0//EN
METHOD:PUBLISH
X-PUBLISHED-TTL:P3D
REFRESH-INTERVAL:P3D
CALSCALE:GREGORIAN
BEGIN:VEVENT
DTSTART:20171103T170000Z
DTEND:20171103T220000Z
X-MICROSOFT-CDO-ALLDAYEVENT:FALSE
SUMMARY:Four Winds Surveillance/Gaming Tech Job Fair
DESCRIPTION:Four Winds Casinos is hosting a Surveillance/Gaming Tech Job Fair!\n\nLooking for a rewarding career?\n\nFour Winds has positions offering competitive wages- tipped positions starting at $5 and non-tipped positions starting at $12. Great benefits are also offered- medial\, dental\, and 401K.\n\nFour Winds is hiring surveillance engineers & gaming technicians for their South Bend location with both full & part-time positions available. Complete the precreening process and meet Four Winds representatives at the job fair.\n\nThe event will take place on November 3\, 2017 from noon-5 p.m. Eastern Time at Union Station\, 506 W. South Street in South Bend.\n\nApply online at www.fourwindscasino.com/general/employment.php - prior to attending the job fair to expedite the process.\n\n1-866-4WINDS1\n\nwww.fourwindscasino.com
X-ALT-DESC;FMTTYPE=text/html:Four Winds Casinos is hosting a Surveillance/Gaming Tech Job Fair!<br />\nLooking for a rewarding career?<br />\nFour Winds has positions offering competitive wages- tipped positions starting at $5 and non-tipped positions starting at $12. Great benefits are also offered- medial\, dental\, and 401K.<br />\nFour Winds is hiring surveillance engineers &amp\; gaming technicians for their South Bend location with both full &amp\; part-time positions available. Complete the precreening process and meet Four Winds representatives at the job fair.<br />\nThe event will take place on November 3\, 2017 from noon-5 p.m. Eastern Time at Union Station\, 506 W. South Street in South Bend.<br />\nApply online at www.fourwindscasino.com/general/employment.php - prior to attending the job fair to expedite the process.<br />\n1-866-4WINDS1<br />\nwww.fourwindscasino.com
LOCATION:Union Station 506 W. South Street South Bend
UID:e.1949.2930
SEQUENCE:3
DTSTAMP:20260424T211302Z
URL:https://members.laportepartnership.com/events/details/four-winds-surveillance-gaming-tech-job-fair-2930
END:VEVENT

END:VCALENDAR
