BEGIN:VCALENDAR
VERSION:2.0
PRODID:-//ChamberMaster//Event Calendar 2.0//EN
METHOD:PUBLISH
X-PUBLISHED-TTL:P3D
REFRESH-INTERVAL:P3D
CALSCALE:GREGORIAN
BEGIN:VEVENT
DTSTART:20171025T210000Z
DTEND:20171026T000000Z
X-MICROSOFT-CDO-ALLDAYEVENT:FALSE
SUMMARY:Frank Lyman Trunk Show at Judee's
DESCRIPTION:Mark your calendars for October 25 from 4:00 p.m.-7:00 p.m. Our Frank Lyman reps will be here at Judee's\, 1104 Indiana Avenue\, to show you all of the new fall/winter line\, along with a sneak peek of spring! Bring a friend or two! Appetizers and drinks will be served. Very excited and looking forward to seeing you!
X-ALT-DESC;FMTTYPE=text/html:<span style="color: rgb(69\, 69\, 69)\; font-family: Arial\, Helvetica\, sans-serif\; font-size: 13.3333px\;">Mark your calendars for October 25 from 4:00 p.m.-7:00 p.m. Our Frank Lyman reps will be here at Judee&#39\;s\, 1104 Indiana Avenue\, to show you all of the new fall/winter line\, along with a sneak peek of spring! Bring a friend or two! Appetizers and drinks will be served. Very excited and looking forward to seeing you!&nbsp\;</span>
LOCATION:Judee's 1104 Indiana Avenue
UID:e.1949.2923
SEQUENCE:3
DTSTAMP:20260425T002436Z
URL:https://members.laportepartnership.com/events/details/frank-lyman-trunk-show-at-judee-s-2923
END:VEVENT

END:VCALENDAR
