BEGIN:VCALENDAR
VERSION:2.0
PRODID:-//ChamberMaster//Event Calendar 2.0//EN
METHOD:PUBLISH
X-PUBLISHED-TTL:P3D
REFRESH-INTERVAL:P3D
CALSCALE:GREGORIAN
BEGIN:VEVENT
DTSTART:20160703T000000Z
DTEND:20160703T030000Z
X-MICROSOFT-CDO-ALLDAYEVENT:FALSE
SUMMARY:Frank Sinatra Night at Etropal Restaurant and Lounge- July 2
DESCRIPTION:Come to Etropal at 701 Lincolnway in La Porte for a Sinatra Vegas Night! The show starts at 7:00 p.m.\, but you should get there early. The singer also does Tony Bennett\, Dean Martin\, Engelbert Humperdinck\, Louis Armstrong\, Michael Buble\, and many others. You may pre-purchase and RSVP tickets for $40\, which also includes a 3-course meal. Call (219) 575-7261 for more information.
X-ALT-DESC;FMTTYPE=text/html:<span style="border: none\; border-image-source: none\; border-image-slice: 100% 1 0\; border-image-repeat: stretch\; font-stretch: inherit\; line-height: 20.8px\; font-family: Arial\, Helvetica\, sans-serif\; font-size: 16px\; font-weight: inherit\; margin: 0px\; outline: invert none medium\; padding: 0px\; vertical-align: baseline\; bottom: auto\; box-sizing: content-box\; clear: none\; color: rgb(0\, 0\, 0)\; content: normal\; direction: inherit\; empty-cells: show\; left: auto\; max-height: none\; max-width: none\; min-height: initial\; min-width: initial\; opacity: 1\; outline-offset: 0px\; overflow: visible\; position: static\; resize: none\; right: auto\; table-layout: auto\; text-overflow: clip\; top: auto\; visibility: inherit\; word-break: inherit\; word-wrap: inherit\; z-index: auto\; border-collapse: separate\; border-radius: 0px\; height: auto\; width: auto\; box-shadow: none\; background-image: none\; background-attachment: initial\; background-size: initial\; background-origin: initial\; background-clip: initial\; background-position: initial\; background-repeat: initial\;">Come to Etropal at 701 Lincolnway in La Porte for a Sinatra Vegas Night! The show starts at 7:00 p.m.\, but you should get there early. The singer also does Tony Bennett\, Dean Martin\, Engelbert Humperdinck\, Louis Armstrong\, Michael Buble\, and many others. You may pre-purchase and RSVP tickets for $40\, which also includes a 3-course meal. Call (219) 575-7261 for more information.</span>
LOCATION:Etropal Restaurant and Lounge 701 Lincolnway La Porte
UID:e.1949.2590
SEQUENCE:3
DTSTAMP:20260426T021729Z
URL:https://members.laportepartnership.com/events/details/frank-sinatra-night-at-etropal-restaurant-and-lounge-july-2-07-02-2016-2590
END:VEVENT

END:VCALENDAR
