BEGIN:VCALENDAR
VERSION:2.0
PRODID:-//ChamberMaster//Event Calendar 2.0//EN
METHOD:PUBLISH
X-PUBLISHED-TTL:P3D
REFRESH-INTERVAL:P3D
CALSCALE:GREGORIAN
BEGIN:VEVENT
DTSTART:20180303T170000Z
DTEND:20180303T180000Z
X-MICROSOFT-CDO-ALLDAYEVENT:FALSE
SUMMARY:Freckle Farm Primitives and Antiques Ribbon Cutting
DESCRIPTION:Freckle Farm Primitives and Antiques opened late in 2017 in a new Downtown La Porte location at 508 State Street. To celebrate this move\, the business will host a ribbon cutting and open house on Saturday\, March 3 at 11:00 a.m. Join in throughout the day for refreshments and entertainment from Jeff Robinson from the Remedy Band. The Greater La Porte Chamber of Commerce will administer the ribbon cutting.\n\nFreckle Farm Primitives and Antiques has primitive cupboards\, cabinets\, early farmhouse goods\, and so much more. The store gets new items in stock weekly. Stop by their new store at 508 State Street to see the amazing selection. Hours are 11 a.m.-5 p.m. Thursdays through Saturdays and 1 p.m.-4 p.m. on Sundays.\n\nTo learn more about the Freckle Farm Primitives and Antiques\, go to their Facebook page or visit their locations at 508 State Street in La Porte. For more information about the Greater La Porte Chamber of Commerce\, visit www.lpchamber.com\, like their Facebook page\, or call 219.362.3178.
X-ALT-DESC;FMTTYPE=text/html:<span style="font-family:georgia\,serif\;"><span style="font-size:12.0pt\;">Freckle Farm Primitives and Antiques opened late in 2017 in a new Downtown La Porte location at 508 State Street. To celebrate this move\, the business will host a ribbon cutting and open house on Saturday\, March 3 at 11:00 a.m. Join in throughout the day for refreshments and entertainment from Jeff Robinson from the Remedy Band. The Greater La Porte Chamber of Commerce will administer the ribbon cutting.</span></span><br />\n<span style="font-family:georgia\,serif\;"><span style="font-size:12.0pt\;">Freckle Farm Primitives and Antiques has primitive cupboards\, cabinets\, early farmhouse goods\, and so much more. The store gets new items in stock weekly. Stop by their new store at 508 State Street to see the amazing selection. Hours are 11 a.m.-5 p.m. Thursdays through Saturdays and 1 p.m.-4 p.m. on Sundays.</span></span><br />\n<span style="font-family:georgia\,serif\;"><span style="font-size:12.0pt\;">To learn more about the Freckle Farm Primitives and Antiques\, go to their Facebook page or visit their locations at 508 State Street in La Porte. For more information about the Greater La Porte Chamber of Commerce\, visit www.lpchamber.com\, like their Facebook page\, or call 219.362.3178.</span></span>
LOCATION:Freckle Farm Primitives & Antiques 508 State Street La Porte
UID:e.1949.3037
SEQUENCE:3
DTSTAMP:20260424T134441Z
URL:https://members.laportepartnership.com/events/details/freckle-farm-primitives-and-antiques-ribbon-cutting-3037
END:VEVENT

END:VCALENDAR
