BEGIN:VCALENDAR
VERSION:2.0
PRODID:-//ChamberMaster//Event Calendar 2.0//EN
METHOD:PUBLISH
X-PUBLISHED-TTL:P3D
REFRESH-INTERVAL:P3D
CALSCALE:GREGORIAN
BEGIN:VEVENT
DTSTART:20230401T180000Z
DTEND:20230401T200000Z
X-MICROSOFT-CDO-ALLDAYEVENT:FALSE
SUMMARY:FREE Bunny Hop
DESCRIPTION:Friendship Botanic Gardens invites you to join us for our FREE Bunny Hop on April 1st from 1 p.m.-3 p.m CST. *This is an open-house style event\, so arrive anytime between 1 and 3 pm.* Come and enjoy a spring stroll through the Gardens with your family. There will be candy and activities for children. The Easter Bunny will also be here and available for photos! Dogs are welcome\, but must be on a leash at all times.
X-ALT-DESC;FMTTYPE=text/html:Friendship Botanic Gardens invites you to join us for our FREE Bunny Hop on April 1st from 1 p.m.-3 p.m CST. *This is an open-house style event\, so arrive anytime between 1 and 3 pm.* Come and enjoy a spring stroll through the Gardens with your family. There will be candy and activities for children. The Easter Bunny will also be here and available for photos! Dogs are welcome\, but must be on a leash at all times.
LOCATION:Friendship Botanic Gardens 2055 E. US Highway 12 Michigan City\, IN 46360
UID:e.1949.4948
SEQUENCE:3
DTSTAMP:20260424T064248Z
URL:https://members.laportepartnership.com/events/details/free-bunny-hop-4948
END:VEVENT

END:VCALENDAR
