BEGIN:VCALENDAR
VERSION:2.0
PRODID:-//ChamberMaster//Event Calendar 2.0//EN
METHOD:PUBLISH
X-PUBLISHED-TTL:P3D
REFRESH-INTERVAL:P3D
CALSCALE:GREGORIAN
BEGIN:VEVENT
DTSTART:20180224T160000Z
DTEND:20180224T180000Z
X-MICROSOFT-CDO-ALLDAYEVENT:FALSE
SUMMARY:Free Butterfly Monitoring Workshop- Shirley Heinze Land Trust
DESCRIPTION:The public is invited to attend a free training workshop for prospective volunteer monitors of local butterfly populations. Staff from Shirley Heinze Land Trust and The Nature Conservancy will present the workshop on Saturday\, February 24th\, from 10am-noon at the Meadowbrook Conservation Center in Valparaiso. \n\nWorkshop participants will learn how to identify butterflies\, learn about their life cycles\, and hear about opportunities to collect data on butterfly populations in northwest Indiana for the Illinois Butterfly Monitoring Network. Persons wishing only to learn about the program are also welcome.  \n\nJohn Henry Drake of the Indiana Chapter of the Nature Conservancy will lead the workshop. The Meadowbrook Conservation Center is located at 109 W. 700 N.\, Valparaiso\, IN 46385.\n\nTo register\, or for more information\, call Shirley Heinze Land Trust at (219) 242-8558 or email volunteer@heinzetrust.org.  Space is limited\, so early registration is advised.
X-ALT-DESC;FMTTYPE=text/html:<span style="font-size:12.0pt\;">The public is invited to attend a free training workshop for prospective volunteer monitors of local butterfly populations. Staff from Shirley Heinze Land Trust and The Nature Conservancy will present the workshop on Saturday\, February 24<sup>th</sup>\, from 10am-noon at the Meadowbrook Conservation Center in Valparaiso. </span><br />\n<span style="font-size:12.0pt\;">Workshop participants will learn how to identify butterflies\, learn about their life cycles\, and hear about opportunities to collect data on butterfly populations in northwest Indiana for the Illinois Butterfly Monitoring Network. Persons wishing only to learn about the program are also welcome.&nbsp\; </span><br />\n<span style="font-size:12.0pt\;">John Henry Drake of the Indiana Chapter of the Nature Conservancy will lead the workshop. The Meadowbrook Conservation Center is located at 109 W. 700 N.\, Valparaiso\, IN 46385.</span><br />\n<span style="font-size:12.0pt\;">To register\, or for more information\, call Shirley Heinze Land Trust at (219) 242-8558 or email </span><a href="mailto:volunteer@heinzetrust.org"><span style="font-size:12.0pt\;">volunteer@heinzetrust.org</span></a><span style="font-size:12.0pt\;">.&nbsp\; Space is limited\, so early registration is advised.</span>
LOCATION:Meadowbrook Conservation Center 109 W. 700 N. Valparaiso
UID:e.1949.3061
SEQUENCE:3
DTSTAMP:20260424T155641Z
URL:https://members.laportepartnership.com/events/details/free-butterfly-monitoring-workshop-shirley-heinze-land-trust-3061
END:VEVENT

END:VCALENDAR
