BEGIN:VCALENDAR
VERSION:2.0
PRODID:-//ChamberMaster//Event Calendar 2.0//EN
METHOD:PUBLISH
X-PUBLISHED-TTL:P3D
REFRESH-INTERVAL:P3D
CALSCALE:GREGORIAN
BEGIN:VEVENT
DTSTART:20190305T180000Z
DTEND:20190305T193000Z
X-MICROSOFT-CDO-ALLDAYEVENT:FALSE
SUMMARY:Free Lunch & Learn: Education Programs for Caregivers of Older Adults
DESCRIPTION:Caregivers won't want to miss the free Lunch & Learn: Education Programs for Caregivers of Older Adults series on February 5\, 2019\, March 5\, 2019\, and April 2\, 2019\, from noon to 1:30 pm held at Rittenhouse Village at Michigan City\, 4300 Cleveland Avenue\, Michigan City\, Indiana. These programs allow busy caregivers to learn about relevant topics and network with fellow caregivers. \n\n \n\nThe topics for these workshops are:\n\n \n\nTuesday\, February 5\, 2019: Strategies for Effective Partnerships with Physicians \n\nTuesday\, March 5\, 2019: Understanding & Responding to Dementia-Related Behavior \n\nTuesday\, April 2\, 2019: Coping with Early Onset Dementia \n\n \n\nPlease reserve your spot for these sessions by calling REAL Services at 574-284-7132 or toll-free 1-800-552-7928 extension 7132. A complimentary lunch will be provided to all caregivers who call for a reservation in advance
X-ALT-DESC;FMTTYPE=text/html:<span style="color:#373737\;"><span style="font-family:arial\,sans-serif\;"><span style="font-size:10.5pt\;">Caregivers won&#39\;t want to miss the <strong><em>free </em></strong></span></span></span><strong><span style="color:#373737\;"><span style="font-family:arial\,sans-serif\;"><span style="font-size:11.5pt\;">Lunch &amp\; Learn: Education Programs for Caregivers of Older Adults</span></span></span></strong><span style="color:#373737\;"><span style="font-family:arial\,sans-serif\;"><span style="font-size:11.5pt\;"> series on February 5\, 2019\, March 5\, 2019\, and April 2\, 2019\, from noon to 1:30&nbsp\;pm&nbsp\;held&nbsp\;at Rittenhouse Village at Michigan City\, 4300 Cleveland Avenue\, Michigan City\,&nbsp\;Indiana. These programs&nbsp\;allow busy caregivers to learn about&nbsp\;relevant topics and network with fellow caregivers.&nbsp\;</span></span></span><br />\n&nbsp\;<br />\n<span style="color:#373737\;"><span style="font-family:arial\,sans-serif\;"><span style="font-size:11.5pt\;">The topics for these workshops are:</span></span></span><br />\n&nbsp\;<br />\n<strong><em><span style="color:#373737\;"><span style="font-family:arial\,sans-serif\;"><span style="font-size:11.5pt\;">Tuesday\, February 5\, 2019: Strategies for Effective Partnerships with Physicians </span></span></span></em></strong><br />\n<strong><em><span style="color:#373737\;"><span style="font-family:arial\,sans-serif\;"><span style="font-size:11.5pt\;">Tuesday\, March 5\, 2019: Understanding &amp\; Responding to Dementia-Related Behavior </span></span></span></em></strong><br />\n<strong><em><span style="color:#373737\;"><span style="font-family:arial\,sans-serif\;"><span style="font-size:11.5pt\;">Tuesday\, April 2\, 2019: Coping with Early Onset Dementia&nbsp\;</span></span></span></em></strong><br />\n&nbsp\;<br />\n<span style="color:#373737\;"><span style="font-family:arial\,sans-serif\;"><span style="font-size:11.5pt\;">Please reserve your spot for these sessions by calling&nbsp\;REAL Services at 574-284-7132 or toll-free 1-800-552-7928 extension 7132. A complimentary lunch will be provided&nbsp\;to all caregivers who call for a reservation in advance</span></span></span>
LOCATION:Rittenhouse Village at Michigan City 4300 Cleveland Avenue\, Michigan City\, Indiana
UID:e.1949.4311
SEQUENCE:3
DTSTAMP:20260423T183954Z
URL:https://members.laportepartnership.com/events/details/free-lunch-learn-education-programs-for-caregivers-of-older-adults-4311
END:VEVENT

END:VCALENDAR
