BEGIN:VCALENDAR
VERSION:2.0
PRODID:-//ChamberMaster//Event Calendar 2.0//EN
METHOD:PUBLISH
X-PUBLISHED-TTL:P3D
REFRESH-INTERVAL:P3D
CALSCALE:GREGORIAN
BEGIN:VEVENT
DTSTART:20180522T140000Z
DTEND:20180522T163000Z
X-MICROSOFT-CDO-ALLDAYEVENT:FALSE
SUMMARY:Free Seminar: How to Control Your Workers’ Compensation Costs
DESCRIPTION:Join us to learn how your organization can control costs by managing current claims and learning claims prevention strategies. Guest speakers Mark Phillips of NLKJ\, Inc. and Micah O'Shaughnessy of Succeed Management Solutions will take a look at claims reporting and examples\, HR issues related to long-term injury\, reducing risk and incident frequency\, as well as loss control suggestions. This free seminar will be on Tuesday\, May 22 at 9:00am at Purdue Northwest's Westville campus. For more information and to register\, visit https://www.genins.com/events/.
X-ALT-DESC;FMTTYPE=text/html:Join us to learn how your organization can control costs by managing current claims and learning claims prevention strategies. Guest speakers Mark Phillips of NLKJ\, Inc. and Micah O&rsquo\;Shaughnessy of Succeed Management Solutions will take a look at claims reporting and examples\, HR issues related to long-term injury\, reducing risk and incident frequency\, as well as loss control suggestions. This free seminar will be on Tuesday\, May 22 at 9:00am at Purdue Northwest&rsquo\;s Westville campus. For more information and to register\, visit <a href="https://www.genins.com/events/">https://www.genins.com/events/</a>.
LOCATION:Dworkin Center at Purdue Northwest Great Hall 1401 South US 421 Westville
UID:e.1949.4135
SEQUENCE:3
DTSTAMP:20260424T115600Z
URL:https://members.laportepartnership.com/events/details/free-seminar-how-to-control-your-workers-compensation-costs-4135
END:VEVENT

END:VCALENDAR
