BEGIN:VCALENDAR
VERSION:2.0
PRODID:-//ChamberMaster//Event Calendar 2.0//EN
METHOD:PUBLISH
X-PUBLISHED-TTL:P3D
REFRESH-INTERVAL:P3D
CALSCALE:GREGORIAN
BEGIN:VEVENT
DTSTART:20170309T233000Z
DTEND:20170310T010000Z
X-MICROSOFT-CDO-ALLDAYEVENT:FALSE
SUMMARY:FREE Small Business Workshop
DESCRIPTION:"Smarter Marketing for Small Businesses in 2017" A workshop that spotlights the basics of online marketing Topics Include:   Budgeting for marketing   FREE market research   Online marketing trends   Lines of Credit
X-ALT-DESC;FMTTYPE=text/html:&ldquo\;Smarter Marketing for Small Businesses in 2017&rdquo\; A workshop that spotlights the basics of online marketing Topics Include: &bull\; Budgeting for marketing &bull\; FREE market research &bull\; Online marketing trends &bull\; Lines of Credit
LOCATION:First Trust Credit Union 950 E US Highway 20 Michigan City\, IN 46360
UID:e.1949.2737
SEQUENCE:3
DTSTAMP:20260425T114336Z
URL:https://members.laportepartnership.com/events/details/free-small-business-workshop-2737
END:VEVENT

END:VCALENDAR
