BEGIN:VCALENDAR
VERSION:2.0
PRODID:-//ChamberMaster//Event Calendar 2.0//EN
METHOD:PUBLISH
X-PUBLISHED-TTL:P3D
REFRESH-INTERVAL:P3D
CALSCALE:GREGORIAN
BEGIN:VEVENT
DTSTART:20161104T230000Z
DTEND:20161105T030000Z
X-MICROSOFT-CDO-ALLDAYEVENT:FALSE
SUMMARY:Friends of the Library Trivia Night
DESCRIPTION:Come on out for an evening of tons of fun and games to support the Friends of the La Porte County Public Library. \n\n\n\nYou will have a blast with your team of up to ten players\, while meeting new friends all there for the same cause. \n\n\n\nThe Friends of the Library raise funds and advocate for the La Porte County Public Library. Without their funds\, the library would not be able to provide the quality of classes and events that they do. Without the FOTL the library would have NO Summer Reading Adventure\, NO adult classes\, NO innovative events in technology for all ages\, NO visits from great children's characters\, and NO fun!\n\n\n\nThere will be a silent auction item\, door prizes\, and giveaways. \n\n\n\nCash bar and food available for all to enjoy. \n\n\n\nMake sure you and your teammates come decked out in your best literary characters. Prizes given for best costumes and themed tables.
X-ALT-DESC;FMTTYPE=text/html:<span style="color: rgb(75\, 79\, 86)\; font-family: helvetica\, arial\, sans-serif\; font-size: 14px\; line-height: 18.76px\;">Come on out for an evening of tons of fun and games to support the Friends of the La Porte County Public Library.&nbsp\;</span><br style="color: rgb(75\, 79\, 86)\; font-family: helvetica\, arial\, sans-serif\; font-size: 14px\; line-height: 18.76px\;" />\n<br style="color: rgb(75\, 79\, 86)\; font-family: helvetica\, arial\, sans-serif\; font-size: 14px\; line-height: 18.76px\;" />\n<span style="color: rgb(75\, 79\, 86)\; font-family: helvetica\, arial\, sans-serif\; font-size: 14px\; line-height: 18.76px\;">You will have a blast with your team of up to ten players\, while meeting new friends all there for the same cause.&nbsp\;</span><br style="color: rgb(75\, 79\, 86)\; font-family: helvetica\, arial\, sans-serif\; font-size: 14px\; line-height: 18.76px\;" />\n<br style="color: rgb(75\, 79\, 86)\; font-family: helvetica\, arial\, sans-serif\; font-size: 14px\; line-height: 18.76px\;" />\n<span style="color: rgb(75\, 79\, 86)\; font-family: helvetica\, arial\, sans-serif\; font-size: 14px\; line-height: 18.76px\;">The Friends of the Library raise funds and advocate for the La Porte County Public Library. Without their funds\, the library would not be able to provide the quality of classes and events that they do. Without the FOTL the library would have NO Summer Reading Adventure\, NO adult classes\, NO innovative events in technology for all ages\, NO visits from great children&#39\;s characters\, and NO fun!</span><br style="color: rgb(75\, 79\, 86)\; font-family: helvetica\, arial\, sans-serif\; font-size: 14px\; line-height: 18.76px\;" />\n<br style="color: rgb(75\, 79\, 86)\; font-family: helvetica\, arial\, sans-serif\; font-size: 14px\; line-height: 18.76px\;" />\n<span style="color: rgb(75\, 79\, 86)\; font-family: helvetica\, arial\, sans-serif\; font-size: 14px\; line-height: 18.76px\;">There will be a silent auction item\, door prizes\, and giveaways.&nbsp\;</span><br style="color: rgb(75\, 79\, 86)\; font-family: helvetica\, arial\, sans-serif\; font-size: 14px\; line-height: 18.76px\;" />\n<br style="color: rgb(75\, 79\, 86)\; font-family: helvetica\, arial\, sans-serif\; font-size: 14px\; line-height: 18.76px\;" />\n<span style="color: rgb(75\, 79\, 86)\; font-family: helvetica\, arial\, sans-serif\; font-size: 14px\; line-height: 18.76px\;">Cash bar and food available for all to enjoy.&nbsp\;</span><br style="color: rgb(75\, 79\, 86)\; font-family: helvetica\, arial\, sans-serif\; font-size: 14px\; line-height: 18.76px\;" />\n<br style="color: rgb(75\, 79\, 86)\; font-family: helvetica\, arial\, sans-serif\; font-size: 14px\; line-height: 18.76px\;" />\n<span style="color: rgb(75\, 79\, 86)\; font-family: helvetica\, arial\, sans-serif\; font-size: 14px\; line-height: 18.76px\;">Make sure you and your teammates come decked out in your best literary characters. Prizes given for best costumes and themed tables.</span>
LOCATION:La Porte County Fairgrounds 2581 W. State Road 2 La Porte
UID:e.1949.2625
SEQUENCE:3
DTSTAMP:20260425T191055Z
URL:https://members.laportepartnership.com/events/details/friends-of-the-library-trivia-night-2625
END:VEVENT

END:VCALENDAR
