BEGIN:VCALENDAR
VERSION:2.0
PRODID:-//ChamberMaster//Event Calendar 2.0//EN
METHOD:PUBLISH
X-PUBLISHED-TTL:P3D
REFRESH-INTERVAL:P3D
CALSCALE:GREGORIAN
BEGIN:VEVENT
DTSTART:20180216T010000Z
DTEND:20180216T030000Z
X-MICROSOFT-CDO-ALLDAYEVENT:FALSE
SUMMARY:Frogging Workshop- Shirley Heinze Land Trust
DESCRIPTION:The public is invited to two free training workshops for prospective volunteer monitors of local frog populations. Staff from Shirley Heinze Land Trust\, The Field Museum\, and Indiana University Northwest will present the workshops on Thursday\, February 15th\, and on Tuesday\, February 20th from 7-9pm at the Meadowbrook Conservation Center in Valparaiso. The two sessions are identical in content.\n\nThe abundance and distribution of frogs over time is an important indicator of the health of aquatic ecosystems\, as frogs are very sensitive to changes in their environment.  By monitoring frog populations\, citizen scientists provide large amounts of data to help land managers and herpetologists recognize early warning signs of a declining habitat. \n\nWorkshop participants will learn about the characteristics of each species\, their preferred habitat\, and how to identify their calls. Participants will be given a data collection protocol\, survey sheet\, and access to audio recordings of frog calls of the species found in our region. New participants who would like to become a monitor will be assigned a preserve or natural area close to their home.  Persons wishing only to learn about the program are also welcome.  \n\nSpencer Cortwright\, Biology Professor at Indiana University Northwest\, will lead the Thursday\, February 15th workshop\, and Alan Resetar\, Amphibian and Reptile Collections Manager at The Field Museum\, will lead the Tuesday\, February 20th workshop. The Meadowbrook Conservation Center is located at 109 W. 700 N.\, Valparaiso\, IN 46385.\n\nTo register\, or for more information\, call Sarah at Shirley Heinze Land Trust at (219) 242-8558 or email sbarnes@heinzetrust.org.  Space is limited\, so early registration is advised.
X-ALT-DESC;FMTTYPE=text/html:<span style="font-size:12.0pt\;">The public is invited to two free training workshops for prospective volunteer monitors of local frog populations. Staff from Shirley Heinze Land Trust\, The Field Museum\, and Indiana University Northwest will present the workshops on Thursday\, February 15<sup>th</sup>\, and on Tuesday\, February 20th from 7-9pm at the Meadowbrook Conservation Center in Valparaiso. The two sessions are identical in content.</span><br />\n<span style="font-size:12.0pt\;">The abundance and distribution of frogs over time is an important indicator of the health of aquatic ecosystems\, as frogs are very sensitive to changes in their environment.&nbsp\; By monitoring frog populations\, citizen scientists provide large amounts of data to help land managers and herpetologists recognize early warning signs of a declining habitat. </span><br />\n<span style="font-size:12.0pt\;">Workshop participants will learn about the characteristics of each species\, their preferred habitat\, and how to identify their calls. Participants will be given a data collection protocol\, survey sheet\, and access to audio recordings of frog calls of the species found in our region. New participants who would like to become a monitor will be assigned a preserve or natural area close to their home.&nbsp\; Persons wishing only to learn about the program are also welcome.&nbsp\; </span><br />\n<span style="font-size:12.0pt\;">Spencer Cortwright\, Biology Professor at Indiana University Northwest\, will lead the Thursday\, February 15th workshop\, and Alan Resetar\, Amphibian and Reptile Collections Manager at The Field Museum\, will lead the Tuesday\, February 20th workshop. The Meadowbrook Conservation Center is located at 109 W. 700 N.\, Valparaiso\, IN 46385.</span><br />\n<span style="font-size:12.0pt\;">To register\, or for more information\, call Sarah at Shirley Heinze Land Trust at (219) 242-8558 or email <a href="mailto:sbarnes@heinzetrust.org"><span style="text-decoration-line:none\;"><span style="color:windowtext\;">sbarnes@heinzetrust.org</span></span></a>.&nbsp\; Space is limited\, so early registration is advised.</span>
LOCATION:Meadowbrook Conservation Center 109 W 700 N Valparaiso
UID:e.1949.3042
SEQUENCE:3
DTSTAMP:20260424T154910Z
URL:https://members.laportepartnership.com/events/details/frogging-workshop-shirley-heinze-land-trust-3042
END:VEVENT

END:VCALENDAR
