BEGIN:VCALENDAR
VERSION:2.0
PRODID:-//ChamberMaster//Event Calendar 2.0//EN
METHOD:PUBLISH
X-PUBLISHED-TTL:P3D
REFRESH-INTERVAL:P3D
CALSCALE:GREGORIAN
BEGIN:VEVENT
DTSTART:20170325T123000Z
DTEND:20170325T210000Z
X-MICROSOFT-CDO-ALLDAYEVENT:FALSE
SUMMARY:From Compassion to Action 2017 March Volunteer Training
DESCRIPTION:Center for Hospice Care needs volunteers in St. Joseph\, La Porte\, Elkhart\, LaGrange\, Starke\, Marshall\, Kosciusko and Fulton Counties. The next Volunteer Training is in March. No previous health care experience is necessary. Volunteers are needed for:\n \n\n          Patient Care\n\n          Companionship\n\n          Bereavement Callers\n\n          Office Support\n\n          Massage Therapists\n\n\n	Veteran Volunteers to serve our veteran patients\n\n\n          Hair Stylists and Barbers\n\n\n	Pet Visitation\n	Camp Evergreen Grief Camp for Kids\n	Life Bio (capturing the life stories of our patients)\n\n \n\nTraining is comprehensive and will prepare volunteers for various opportunities. Following training\, volunteers may assist patients and families in activities such as respite\, transportation\, laundry\, errands\, companionship\, or bereavement. Volunteers will serve patients in their homes\, in nursing homes\, or may serve in office or clerical roles. Center for Hospice Care is in need of individuals with licensure/certification in massage therapy\, hair styling\, pet visitation\, or notary public.  \n\n \n\nTraining dates are:\n\n \n\nMarch 11 & 25\, 8:30 am   5 pm\n\nMishawaka Campus\, 501 Comfort Place\, Mishawaka\n\n \n\nRegistration required. Please contact Kristiana Donahue\, Volunteer Recruitment Coordinator\, (574) 286 -1198 or donahuek@cfhcare.org.
X-ALT-DESC;FMTTYPE=text/html:<h1 align="left"><span style="font-family:arial\,sans-serif\;"><span style="font-size:12.0pt\;">Center for Hospice Care needs volunteers in St. Joseph\, La Porte\, Elkhart\, LaGrange\, Starke\, Marshall\, Kosciusko and Fulton Counties. </span></span><span style="font-family:arial\,sans-serif\;"><span style="font-size:12.0pt\;">The next Volunteer Training is in March. No previous health care experience is necessary. Volunteers are needed for:</span></span></h1>\n&nbsp\;\n\n<h1 align="left" style="margin-left:2.5in\;text-indent:-0.25in\;"><span style="font-family:symbol\;"><span style="font-size:12.0pt\;">&middot\;&nbsp\;&nbsp\;&nbsp\;&nbsp\;&nbsp\;&nbsp\;&nbsp\;&nbsp\; </span></span><strong><span style="font-family:arial\,sans-serif\;"><span style="font-size:12.0pt\;">Patient Care</span></span></strong></h1>\n\n<h1 align="left" style="margin-left:2.5in\;text-indent:-0.25in\;"><span style="font-family:symbol\;"><span style="font-size:12.0pt\;">&middot\;&nbsp\;&nbsp\;&nbsp\;&nbsp\;&nbsp\;&nbsp\;&nbsp\;&nbsp\; </span></span><strong><span style="font-family:arial\,sans-serif\;"><span style="font-size:12.0pt\;">Companionship</span></span></strong></h1>\n\n<h1 align="left" style="margin-left:2.5in\;text-indent:-0.25in\;"><span style="font-family:symbol\;"><span style="font-size:12.0pt\;">&middot\;&nbsp\;&nbsp\;&nbsp\;&nbsp\;&nbsp\;&nbsp\;&nbsp\;&nbsp\; </span></span><strong><span style="font-family:arial\,sans-serif\;"><span style="font-size:12.0pt\;">Bereavement Callers</span></span></strong></h1>\n\n<h1 align="left" style="margin-left:2.5in\;text-indent:-0.25in\;"><span style="font-family:symbol\;"><span style="font-size:12.0pt\;">&middot\;&nbsp\;&nbsp\;&nbsp\;&nbsp\;&nbsp\;&nbsp\;&nbsp\;&nbsp\; </span></span><strong><span style="font-family:arial\,sans-serif\;"><span style="font-size:12.0pt\;">Office Support</span></span></strong></h1>\n\n<h1 align="left" style="margin-left:2.5in\;text-indent:-0.25in\;"><span style="font-family:symbol\;"><span style="font-size:12.0pt\;">&middot\;&nbsp\;&nbsp\;&nbsp\;&nbsp\;&nbsp\;&nbsp\;&nbsp\;&nbsp\; </span></span><strong><span style="font-family:arial\,sans-serif\;"><span style="font-size:12.0pt\;">Massage Therapists</span></span></strong></h1>\n\n<ul>\n	<li><strong><span style="font-family:arial\,sans-serif\;">Veteran Volunteers to serve our veteran patients</span></strong></li>\n</ul>\n\n<h1 align="left" style="margin-left:2.5in\;text-indent:-0.25in\;"><span style="font-family:symbol\;"><span style="font-size:12.0pt\;">&middot\;&nbsp\;&nbsp\;&nbsp\;&nbsp\;&nbsp\;&nbsp\;&nbsp\;&nbsp\; </span></span><strong><span style="font-family:arial\,sans-serif\;"><span style="font-size:12.0pt\;">Hair Stylists and Barbers</span></span></strong></h1>\n\n<ul>\n	<li><strong><span style="font-family:arial\,sans-serif\;">Pet Visitation</span></strong></li>\n	<li><strong><span style="font-family:arial\,sans-serif\;">Camp Evergreen Grief Camp for Kids</span></strong></li>\n	<li><strong><span style="font-family:arial\,sans-serif\;">Life Bio (capturing the life stories of our patients)</span></strong></li>\n</ul>\n&nbsp\;<br />\n<span style="font-family:arial\,sans-serif\;">Training is comprehensive and will prepare volunteers for various opportunities. Following training\, volunteers may assist patients and families in activities such as respite\, transportation\, laundry\, errands\, companionship\, or bereavement. Volunteers will serve patients in their homes\, in nursing homes\, or may serve in office or clerical roles. Center for Hospice Care is in need of individuals with licensure/certification in massage therapy\, hair styling\, pet visitation\, or notary public.&nbsp\; </span><br />\n&nbsp\;<br />\n<span style="font-family:arial\,sans-serif\;">Training dates are:</span><br />\n&nbsp\;<br />\n<span style="font-family:arial\,sans-serif\;">March 11 &amp\; 25\, 8:30 am &ndash\; 5 pm</span><br />\n<span style="font-family:arial\,sans-serif\;">Mishawaka Campus\, 501 Comfort Place\, Mishawaka</span><br />\n&nbsp\;<br />\n<span style="font-family:arial\,sans-serif\;">Registration required. Please contact </span><span style="font-family:arial\,sans-serif\;">Kristiana Donahue\, Volunteer Recruitment Coordinator\, (574) 286 -1198 or donahuek@cfhcare.org.</span>
LOCATION:Mishawaka Campus 501 Comfort Place Mishawaka
UID:e.1949.2735
SEQUENCE:3
DTSTAMP:20260425T133317Z
URL:https://members.laportepartnership.com/events/details/from-compassion-to-action-2017-march-volunteer-training-2735
END:VEVENT

END:VCALENDAR
