BEGIN:VCALENDAR
VERSION:2.0
PRODID:-//ChamberMaster//Event Calendar 2.0//EN
METHOD:PUBLISH
X-PUBLISHED-TTL:P3D
REFRESH-INTERVAL:P3D
CALSCALE:GREGORIAN
BEGIN:VEVENT
DTSTART:20160723T140000Z
DTEND:20160724T020000Z
X-MICROSOFT-CDO-ALLDAYEVENT:FALSE
SUMMARY:Frosty Boy Fundraiser - Relay For Life
DESCRIPTION:10% of Sales and 100% of tips will go to The American Cancer Society - Relay For Life of LaPorte County.
X-ALT-DESC;FMTTYPE=text/html:10% of Sales and 100% of tips will go to The American Cancer Society - Relay For Life of LaPorte County.
LOCATION:2030 E US Hwy 20 - Michigan City\, IN 46360
UID:e.1949.2593
SEQUENCE:3
DTSTAMP:20260426T021552Z
URL:https://members.laportepartnership.com/events/details/frosty-boy-fundraiser-relay-for-life-07-23-2016-2593
END:VEVENT

END:VCALENDAR
