BEGIN:VCALENDAR
VERSION:2.0
PRODID:-//ChamberMaster//Event Calendar 2.0//EN
METHOD:PUBLISH
X-PUBLISHED-TTL:P3D
REFRESH-INTERVAL:P3D
CALSCALE:GREGORIAN
BEGIN:VEVENT
DTSTART:20180711T160000Z
DTEND:20180712T020000Z
X-MICROSOFT-CDO-ALLDAYEVENT:FALSE
SUMMARY:Frosty Boy Give Back
DESCRIPTION:Relay for Life Frosty Boy Give Back 10% of Sales and 100% of Tips Donated No coupon needed
X-ALT-DESC;FMTTYPE=text/html:Relay for Life Frosty Boy Give Back 10% of Sales and 100% of Tips Donated No coupon needed
LOCATION:Frosty Boy 2030 E Us Hwy 20 Michigan City\, IN 46360
UID:e.1949.4201
SEQUENCE:3
DTSTAMP:20260424T085427Z
URL:https://members.laportepartnership.com/events/details/frosty-boy-give-back-4201
END:VEVENT

END:VCALENDAR
