BEGIN:VCALENDAR
VERSION:2.0
PRODID:-//ChamberMaster//Event Calendar 2.0//EN
METHOD:PUBLISH
X-PUBLISHED-TTL:P3D
REFRESH-INTERVAL:P3D
CALSCALE:GREGORIAN
BEGIN:VEVENT
DTSTART:20180421T140000Z
DTEND:20180421T170000Z
X-MICROSOFT-CDO-ALLDAYEVENT:FALSE
SUMMARY:Fungi Seminar and Hike
DESCRIPTION:The public is invited to attend a free seminar about fungi presented by Dr. Scott Bates\, a mycologist and researcher with Purdue University Northwest. The seminar will be held on Saturday\, April 21st from 9am-noon at the Meadowbrook Conservation Center\, 109 West 700 North in Valparaiso. \n\nDr. Bates will describe fungal diversity in the region and the role of fungi in nature. Following the presentation\, weather permitting\, participants will hike Meadowbrook Nature Preserve to identify species of fungi found at the site. Participants are advised to dress for the weather.   \n\nTo register\, or for more information\, call Sarah at Shirley Heinze Land Trust at (219) 242-8558 or email sbarnes@heinzetrust.org.  The event is free to attend\, but space is limited\, so early registration is advised.
X-ALT-DESC;FMTTYPE=text/html:<span style="color:windowtext\;"><span style="font-size:12.0pt\;">The public is invited to attend a free seminar about fungi presented by Dr. Scott Bates\, a mycologist and researcher with Purdue University Northwest. The seminar will be held on Saturday\, April 21st from 9am-noon at the Meadowbrook Conservation Center\, 109 West 700 North in Valparaiso. </span></span><br />\n<span style="color:windowtext\;"><span style="font-size:12.0pt\;">Dr. Bates will describe fungal diversity in the region and the role of fungi in nature. Following the presentation\, weather permitting\, participants will hike Meadowbrook Nature Preserve to identify species of fungi found at the site. Participants are advised to dress for the weather.&nbsp\;&nbsp\; </span></span><br />\n<span style="color:windowtext\;"><span style="font-size:12.0pt\;">To register\, or for more information\, call Sarah at Shirley Heinze Land Trust at (219) 242-8558 or email </span></span><a href="mailto:sbarnes@heinzetrust.org"><span style="text-decoration:none\;text-underline:none\;"><span style="color:windowtext\;"><span style="font-size:12.0pt\;">sbarnes@heinzetrust.org</span></span></span></a><span style="color:windowtext\;"><span style="font-size:12.0pt\;">. &nbsp\;The event is free to attend\, but space is limited\, so early registration is advised.</span></span>
LOCATION:Meadowbrook Conservation Center 109 W. 700 N. Valparaiso
UID:e.1949.4113
SEQUENCE:3
DTSTAMP:20260424T115410Z
URL:https://members.laportepartnership.com/events/details/fungi-seminar-and-hike-4113
END:VEVENT

END:VCALENDAR
