BEGIN:VCALENDAR
VERSION:2.0
PRODID:-//ChamberMaster//Event Calendar 2.0//EN
METHOD:PUBLISH
X-PUBLISHED-TTL:P3D
REFRESH-INTERVAL:P3D
CALSCALE:GREGORIAN
BEGIN:VEVENT
DTSTART:20190727T230000Z
DTEND:20190728T020000Z
X-MICROSOFT-CDO-ALLDAYEVENT:FALSE
SUMMARY:Gatsby in the Gardens
DESCRIPTION:Step into a Great Gatsby Garden Party! Enjoy a speakeasy evening set in the 1920's. Stroll the gardens\, sip some giggle water\, play bocce or badminton\, or cut the rug while listening to live jazz. Put on the ritz for this event! Tickets are $45. Each ticket includes: 4 cocktail sample tickets\, beer samples and light appetizers. This is a 21+ event.
X-ALT-DESC;FMTTYPE=text/html:<p><span style="color:rgb(0\, 0\, 0)\; font-family:times new roman\; font-size:12pt">Step into a Great Gatsby Garden Party! Enjoy a speakeasy evening set in the 1920&rsquo\;s. Stroll the gardens\, sip some giggle water\, play bocce or badminton\, or cut the rug while listening to live jazz. Put on the ritz for this event! Tickets are $45. Each ticket includes: 4 cocktail sample tickets\, beer samples and light appetizers. This is a 21+ event.</span></p>\n
LOCATION:Friendship Botanic Gardens 2055 East US Highway 12 Michigan City\, IN 46360
UID:e.1949.4323
SEQUENCE:3
DTSTAMP:20260423T114751Z
URL:https://members.laportepartnership.com/events/details/gatsby-in-the-gardens-4323
END:VEVENT

END:VCALENDAR
