BEGIN:VCALENDAR
VERSION:2.0
PRODID:-//ChamberMaster//Event Calendar 2.0//EN
METHOD:PUBLISH
X-PUBLISHED-TTL:P3D
REFRESH-INTERVAL:P3D
CALSCALE:GREGORIAN
BEGIN:VEVENT
DTSTART:20170316T161500Z
DTEND:20170316T180000Z
X-MICROSOFT-CDO-ALLDAYEVENT:FALSE
SUMMARY:Generating Leads Seminar- Sponsored by Briar Leaf Golf Club
DESCRIPTION:The Greater La Porte Chamber of Commerce will host a seminar luncheon focusing on establishing leads on Thursday\, March 16 at Portofino Grill\, located at 3233 N. State Road 39 in La Porte. Registration will begin at 11:15 a.m.\, and the program will begin at 11:30 a.m. This seminar is sponsored by Briar Leaf Golf Club.\n\n\n\nRene Ray of R Squared Strategies\, LLC will present information on how to generate leads at this seminar as leads are the key to a successful pipeline.  In this seminar\, participants will spend time identifying current leads in 3 main areas\, and then they will be given 17 ways to generate new leads.  The group will learn how to effectively cold call\, canvass call\, and set targets for each.  Rene will also discuss how to manage leads effectively using a calendar and CRM and the 6 most successful time management techniques.\n\n\n\nTo learn more about the R Squared\, LLC\, visit R2\, LLC on Facebook. For more information about Briar Leaf Golf Club\, visit www.briarleaf.com. To register for this seminar\, call 219.362.3178 or click the link above.
X-ALT-DESC;FMTTYPE=text/html:<span style="font-family:georgia\,serif\;"><span style="font-size:12.0pt\;">The Greater La Porte Chamber of Commerce will host a seminar luncheon focusing on establishing leads on Thursday\, March 16 at Portofino Grill\, located at 3233 N. State Road 39 in La Porte. Registration will begin at 11:15 a.m.\, and the program will begin at 11:30 a.m. This seminar is sponsored by Briar Leaf Golf Club.</span></span><br />\n<br />\n<span style="font-family:georgia\,serif\;"><span style="font-size:12.0pt\;">Rene Ray of R Squared Strategies\, LLC will present information on how to generate leads at this seminar as leads are the key to a successful pipeline.&nbsp\; In this seminar\, participants will spend time identifying current leads in 3 main areas\, and then they will be given 17 ways to generate new leads.&nbsp\; The group will learn how to effectively cold call\, canvass call\, and set targets for each.&nbsp\; Rene will also discuss how to manage leads effectively using a calendar and CRM and the 6 most successful time management techniques.</span></span><br />\n<br />\n<span style="font-family:georgia\,serif\;"><span style="font-size:12.0pt\;">To learn more about the R Squared\, LLC\, visit R2\, LLC on Facebook. For more information about Briar Leaf Golf Club\, visit www.briarleaf.com. To register for this seminar\, call 219.362.3178 or click the link above.</span></span>
LOCATION:Portofino Grill 3233 N. State Road 39 La Porte
UID:e.1949.2730
SEQUENCE:3
DTSTAMP:20260425T133556Z
URL:https://members.laportepartnership.com/events/details/generating-leads-seminar-sponsored-by-briar-leaf-golf-club-2730
END:VEVENT

END:VCALENDAR
