BEGIN:VCALENDAR
VERSION:2.0
PRODID:-//ChamberMaster//Event Calendar 2.0//EN
METHOD:PUBLISH
X-PUBLISHED-TTL:P3D
REFRESH-INTERVAL:P3D
CALSCALE:GREGORIAN
BEGIN:VEVENT
DTSTART:20160927T220000Z
DTEND:20160927T230000Z
X-MICROSOFT-CDO-ALLDAYEVENT:FALSE
SUMMARY:Gifting of Unity Park to City of La Porte
DESCRIPTION:Join us in celebrating the gift of Unity Park to the City of La Porte!\n\n\n\nUnity Park Gift Celebration\n\nTuesday\, September 27\, 2016- 5:00 Reception\, 5:30 Presentation\n\n1010 Pine Lake Avenue\, On the Shores of Beautiful Pine Lake!\n\nPlease join the Unity Foundation\, the City of La Porte\, and the La Porte Park Foundation as we turn Unity Park over to the City of La Porte and announce an endowment fund to assure its future.\n\n\n\nRSVP to Unity Foundation of La Porte County- unity@uflc.net or 219.879.0327
X-ALT-DESC;FMTTYPE=text/html:Join us in celebrating the gift of Unity Park to the City of La Porte!<br />\n<br />\nUnity Park Gift Celebration<br />\nTuesday\, September 27\, 2016- 5:00 Reception\, 5:30 Presentation<br />\n1010 Pine Lake Avenue\, On the Shores of Beautiful Pine Lake!<br />\nPlease join the Unity Foundation\, the City of La Porte\, and the La Porte Park Foundation as we turn Unity Park over to the City of La Porte and announce an endowment fund to assure its future.<br />\n<br />\nRSVP to Unity Foundation of La Porte County- unity@uflc.net or 219.879.0327
LOCATION:Unity Park 1010 Pine Lake Avenue La Porte
UID:e.1949.2624
SEQUENCE:3
DTSTAMP:20260425T223926Z
URL:https://members.laportepartnership.com/events/details/gifting-of-unity-park-to-city-of-la-porte-2624
END:VEVENT

END:VCALENDAR
