BEGIN:VCALENDAR
VERSION:2.0
PRODID:-//ChamberMaster//Event Calendar 2.0//EN
METHOD:PUBLISH
X-PUBLISHED-TTL:P3D
REFRESH-INTERVAL:P3D
CALSCALE:GREGORIAN
BEGIN:VEVENT
DTSTART;VALUE=DATE:20191214
DTEND;VALUE=DATE:20200105
TRANSP:TRANSPARENT
X-MICROSOFT-CDO-ALLDAYEVENT:TRUE
SUMMARY:GINGERBREAD HOUSE CONTEST
DESCRIPTION:Please join the La Porte County Historical Society Museum for this celebration of Christmas. Professionals and amateurs alike are welcome to submit their gingerbread creations. It can be a house or any other building. Turn in your masterpieces between December 10 to 14. Judging will be on December 21\, and the buildings will be displayed at the museum through the holidays.
X-ALT-DESC;FMTTYPE=text/html:Please join the La Porte County Historical Society Museum for this celebration of Christmas. Professionals and amateurs alike are welcome to submit their gingerbread creations. It can be a house or any other building. Turn in your masterpieces between December 10 to 14. Judging will be on December 21\, and the buildings will be displayed at the museum through the holidays.
LOCATION:La Porte County Historical Society Museum
UID:e.1949.4370
SEQUENCE:3
DTSTAMP:20260423T005519Z
URL:https://members.laportepartnership.com/events/details/gingerbread-house-contest-4370
END:VEVENT

END:VCALENDAR
