BEGIN:VCALENDAR
VERSION:2.0
PRODID:-//ChamberMaster//Event Calendar 2.0//EN
METHOD:PUBLISH
X-PUBLISHED-TTL:P3D
REFRESH-INTERVAL:P3D
CALSCALE:GREGORIAN
BEGIN:VEVENT
DTSTART:20170123T200000Z
DTEND:20170123T203000Z
X-MICROSOFT-CDO-ALLDAYEVENT:FALSE
SUMMARY:Go Aerial Fitness Ribbon Cutting
DESCRIPTION:Go Aerial Fitness will host a ribbon cutting with the Greater La Porte Chamber of Commerce on Monday\, January 23 at 2:00 p.m. The fitness-based studio is celebrating a new location in a recently renovated building located at 505 Lincolnway in downtown La Porte.\n\n\n\nGo Aerial Fitness offers a variety of different classes for all levels of experience including yoga\, aerial yoga\, Jazzercise\, and pole dance and fitness classes by Dance Fierce Inc. The business will be opening with a full schedule on February 1. Participants do not need have prior yoga experience to enjoy yoga classes or aerial yoga. More information about additional programs and babysitting during classes will also be coming soon.\n\n\n\nThe owner of Go Aerial Fitness is April Kelly\, who has been teaching fitness classes in La Porte for five years. April believes that exercise should be something enjoyable and fun. Since certifying for aerial yoga in December 2015\, and practicing on aerial hoop and silks\, she has been dreaming of a dedicated space to bring all of this together for the community. April's focus is on teaching classes that are safe\, fun and challenging.\n\n\n\nFor more information about Go Aerial Fitness\, visit www.goaerialfitness.com\, call 219.477.0012\, or like the business on Facebook.
X-ALT-DESC;FMTTYPE=text/html:<span style="font-family:georgia\,serif\;"><span style="font-size:12.0pt\;">Go Aerial Fitness will host a ribbon cutting with the Greater La Porte Chamber of Commerce on Monday\, January 23 at 2:00 p.m. The fitness-based studio is celebrating a new location in a recently renovated building located at 505 Lincolnway in downtown La Porte.</span></span><br />\n<br />\n<span style="font-family:georgia\,serif\;">Go Aerial Fitness offers a variety of different classes for all levels of experience including yoga\, aerial yoga\, Jazzercise\, and pole dance and fitness classes by Dance Fierce Inc. The business will be opening with a full schedule on February 1. Participants do not need have prior yoga experience to enjoy yoga classes or aerial yoga. More information about additional programs and babysitting during classes will also be coming soon.</span><br />\n<br />\n<span style="font-family:georgia\,serif\;"><span style="font-size:12.0pt\;">The owner of Go Aerial Fitness is April Kelly\, who </span></span><span style="font-family:georgia\,serif\;"><span style="font-size:12.0pt\;">has been teaching fitness classes in La Porte for five years. April believes that exercise should be something enjoyable and fun. Since certifying for aerial yoga in December 2015\, and practicing on aerial hoop and silks\, she has been dreaming of a dedicated space to bring all of this together for the community. April&#39\;s focus is on teaching classes that are safe\, fun and challenging.</span></span><br />\n<br />\n<span style="font-family:georgia\,serif\;"><span style="font-size:12.0pt\;">For more information about Go Aerial Fitness\, visit www.goaerialfitness.com\, call 219.477.0012\, or like the business on Facebook.</span></span>
LOCATION:Go Aerial Fitness 505 Lincolnway La Porte
UID:e.1949.2701
SEQUENCE:3
DTSTAMP:20260425T154026Z
URL:https://members.laportepartnership.com/events/details/go-aerial-fitness-ribbon-cutting-2701
END:VEVENT

END:VCALENDAR
