BEGIN:VCALENDAR
VERSION:2.0
PRODID:-//ChamberMaster//Event Calendar 2.0//EN
METHOD:PUBLISH
X-PUBLISHED-TTL:P3D
REFRESH-INTERVAL:P3D
CALSCALE:GREGORIAN
BEGIN:VEVENT
DTSTART:20170824T190000Z
DTEND:20170824T220000Z
X-MICROSOFT-CDO-ALLDAYEVENT:FALSE
SUMMARY:Goodwill SCSEP Application Day
DESCRIPTION:Goodwill host a Senior Community Service Employment Program Application Day Event on Thursday\, August 24 from 2:00 p.m.-5:00 p.m. at the Greater La Porte Chamber of Commerce\, 803 Washington Street in La Porte. Do you know someone who is looking for work and is 55 years of age or older? They may eligible for the Senior Community Service Program. Event registration is free- call 574.276.9995 for more information. Let Goodwill help link you or someone else with a local nonprofit or other community service agency where you'll: get paid to learn new skills through on-the-job training\; learn current job serach techniques and develop effective interview skills\; and build work experience and confidence to advance to regular employment.
X-ALT-DESC;FMTTYPE=text/html:<span style="color: rgb(69\, 69\, 69)\; font-family: Arial\, Helvetica\, sans-serif\; font-size: 13.3333px\;">Goodwill host a Senior Community Service Employment Program Application Day Event on Thursday\, August 24 from 2:00 p.m.-5:00 p.m. at the Greater La Porte Chamber of Commerce\, 803 Washington Street in La Porte. Do you know someone who is looking for work and is 55 years of age or older? They may eligible for the Senior Community Service Program. Event registration is free- call 574.276.9995 for more information. Let Goodwill help link you or someone else with a local nonprofit or other community service agency where you&#39\;ll: get paid to learn new skills through on-the-job training\; learn current job serach techniques and develop effective interview skills\; and build work experience and confidence to advance to regular employment.</span>
LOCATION:Greater La Porte Chamber of Commerce 803 Washington Street\, La Porte
UID:e.1949.2855
SEQUENCE:3
DTSTAMP:20260425T021250Z
URL:https://members.laportepartnership.com/events/details/goodwill-scsep-application-day-2855
END:VEVENT

END:VCALENDAR
