BEGIN:VCALENDAR
VERSION:2.0
PRODID:-//ChamberMaster//Event Calendar 2.0//EN
METHOD:PUBLISH
X-PUBLISHED-TTL:P3D
REFRESH-INTERVAL:P3D
CALSCALE:GREGORIAN
BEGIN:VEVENT
DTSTART:20171129T150000Z
DTEND:20171129T170000Z
X-MICROSOFT-CDO-ALLDAYEVENT:FALSE
SUMMARY:Government Certification for Veteran\, Minority and Women Owned Businesses with SCORE
DESCRIPTION:Do you know how much money you are losing by not being certified for state and federal contracts?  Do you think the process is so onerous it is not worth the time and trouble?  Is it possible being certified can make the difference in being a subcontractor?  If your answer to any of these questions is "yes"\, then you should attend this workshop for small business certification for veteran\, minority and women owned business.\n\nOur presenter for this workshop is Diana Hunter.  She comes to the Indiana Procurement Technical Assistance Center with over 15 years of state and private industry procurement experience.  As a counselor for the Procurement Technical Assistance Center in NW Indiana\, she will explain all the benefits  of certification and can walk you through the certification process.\n\nThis workshop will be held at the Valparaiso Chamber of Commerce\, 162 W. Lincolnway\, Wednesday\, November 29th at 9 AM.  Register by going to www.northwestindiana.score.org and clicking on 'Take a Workshop'.  A paper copy of the presentation will be provided at the workshop.   Coffee will be served.  Seating is limited so register today.
X-ALT-DESC;FMTTYPE=text/html:<span style="font-family:calibri\,sans-serif\;"><span style="font-size:14.0pt\;">Do you know how much money you are losing by not being certified for state and federal contracts?&nbsp\; Do you think the process is so onerous it is not worth the time and trouble?&nbsp\; Is it possible being certified can make the difference in being a subcontractor?&nbsp\; If your answer to any of these questions is &ldquo\;yes&rdquo\;\, then you should attend this workshop for small business certification for veteran\, minority and women owned business.</span></span><br />\n<span style="font-family:calibri\,sans-serif\;"><span style="font-size:14.0pt\;">Our presenter for this workshop is Diana Hunter.&nbsp\; She comes to the Indiana Procurement Technical Assistance Center with over 15 years of state and private industry procurement experience.&nbsp\; As a counselor for the Procurement Technical Assistance Center in NW Indiana\, she will explain all the benefits &nbsp\;of certification and can walk you through the certification process.</span></span><br />\n<span style="font-family:calibri\,sans-serif\;"><span style="font-size:14.0pt\;">This workshop will be held at the Valparaiso Chamber of Commerce\, 162 W. Lincolnway\, Wednesday\, November 29th at 9 AM.&nbsp\; Register by going to www.northwestindiana.score.org and clicking on &lsquo\;Take a Workshop&rsquo\;.&nbsp\; A paper copy of the presentation will be provided at the workshop. &nbsp\;&nbsp\;Coffee will be served.&nbsp\; Seating is limited so register today.</span></span>
LOCATION:Valparaiso Chamber of Commerce 162 W. Lincolnway Valparaiso
UID:e.1949.2949
SEQUENCE:3
DTSTAMP:20260424T212422Z
URL:https://members.laportepartnership.com/events/details/government-certification-for-veteran-minority-and-women-owned-businesses-with-score-2949
END:VEVENT

END:VCALENDAR
