BEGIN:VCALENDAR
VERSION:2.0
PRODID:-//ChamberMaster//Event Calendar 2.0//EN
METHOD:PUBLISH
X-PUBLISHED-TTL:P3D
REFRESH-INTERVAL:P3D
CALSCALE:GREGORIAN
BEGIN:VEVENT
DTSTART:20181106T140000Z
DTEND:20181106T150000Z
X-MICROSOFT-CDO-ALLDAYEVENT:FALSE
SUMMARY:Greater La Porte Chamber of Commerce November 2018 Membership Orientation (A.M.)
DESCRIPTION:The Greater La Porte Chamber of Commerce exists to support your business as you strive for success. Want to learn more about the Greater La Porte Chamber of Commerce or need a refresher on the many benefits and resources for your business?\n\n\n\nJoin us on Nov. 6 from 8 to 9 a.m. at 803 Washington Street for a Membership Orientation event. This event is open to current and interested Chamber members. \n\n\n\nLearn about the following resources and topics:\n\n	Why Join the Chamber?\n	How to Join the Chamber\n	Marketing your Business through the Chamber\n	Marketing Stats\n	2018 Committee Preference Form\n	2018 Membership Application\n	2018 Program of Action\n\nContact us for more information about membership at 219.362.3178 or email Lindsay Jongkind at jongkind@lpchamber.com.
X-ALT-DESC;FMTTYPE=text/html:<span style="font-family:arial\;"><span style="font-size:16px\;"><span style="color:black\;">The Greater La Porte Chamber of Commerce exists to support your business as you strive for success. </span><span style="color:black\;">Want to learn more about the Greater La Porte Chamber of Commerce or need a refresher on the many benefits and resources for your business?</span><br />\n<br />\n<span style="color:black\;">Join us on Nov. 6 from 8 to 9 a.m. at 803 Washington Street for a Membership Orientation event. This event is open to current and interested Chamber members. </span><br />\n<br />\n<span style="color:black\;">Learn about the following resources and topics:</span></span></span>\n<ul>\n	<li style="color:black\;background:white\;"><span style="font-family:arial\;"><span style="font-size:16px\;"><a href="https://www.lpchamber.com/wp-content/uploads/2018/08/Why-Join-the-Chamber.png" target="_blank"><strong>Why Join the Chamber?</strong></a></span></span></li>\n	<li style="color:black\;background:white\;"><span style="font-family:arial\;"><span style="font-size:16px\;"><a href="https://www.lpchamber.com/wp-content/uploads/2018/08/How-to-Join-the-Chamber.png" target="_blank"><strong>How to Join the Chamber</strong></a></span></span></li>\n	<li style="color:black\;background:white\;"><span style="font-family:arial\;"><span style="font-size:16px\;"><a href="https://www.lpchamber.com/wp-content/uploads/2018/08/2018-Marketing-Your-Business-through-the-Chamber.doc" target="_blank"><strong>Marketing your Business through the Chamber</strong></a></span></span></li>\n	<li style="color:black\;background:white\;"><span style="font-family:arial\;"><span style="font-size:16px\;"><a href="https://www.lpchamber.com/wp-content/uploads/2018/08/MarketingStats.pdf" target="_blank"><strong>Marketing Stats</strong></a></span></span></li>\n	<li style="color:black\;background:white\;"><span style="font-family:arial\;"><span style="font-size:16px\;"><a href="https://www.lpchamber.com/wp-content/uploads/2018/08/2018CommitteePreferenceForm.pdf" target="_blank"><strong>2018 Committee Preference Form</strong></a></span></span></li>\n	<li style="color:black\;background:white\;"><span style="font-family:arial\;"><span style="font-size:16px\;"><a href="https://www.lpchamber.com/wp-content/uploads/2018/08/2018-Membership-Application.pdf" target="_blank"><strong>2018 Membership Application</strong></a></span></span></li>\n	<li style="color:black\;background:white\;"><span style="font-family:arial\;"><span style="font-size:16px\;"><a href="https://www.lpchamber.com/wp-content/uploads/2018/08/2018ProgramOfAction.doc" target="_blank"><strong>2018 Program of Action</strong></a></span></span></li>\n</ul>\n<span style="font-family:arial\;"><span style="font-size:16px\;"><span style="color:black\;">Contact us for more information about membership at 219.362.3178 or email Lindsay Jongkind at <a href="mailto:jongkind@lpchamber.com">jongkind@lpchamber.com</a>.</span><br />\n&nbsp\;</span></span><br />\n&nbsp\;
LOCATION:Greater La Porte Chamber of Commerce 803 Washington Street La Porte\, IN 46350
UID:e.1949.4261
SEQUENCE:3
DTSTAMP:20260424T005802Z
URL:https://members.laportepartnership.com/events/details/greater-la-porte-chamber-of-commerce-november-2018-membership-orientation-a-m-4261
END:VEVENT

END:VCALENDAR
