BEGIN:VCALENDAR
VERSION:2.0
PRODID:-//ChamberMaster//Event Calendar 2.0//EN
METHOD:PUBLISH
X-PUBLISHED-TTL:P3D
REFRESH-INTERVAL:P3D
CALSCALE:GREGORIAN
BEGIN:VEVENT
DTSTART:20171017T140000Z
DTEND:20171017T203000Z
X-MICROSOFT-CDO-ALLDAYEVENT:FALSE
SUMMARY:Green Business Workshop & Showcase
DESCRIPTION:Join South Shore Clean Cities\, South Bend Office of Sustainability and Michiana Area Council of Governments for the first ever Green Business Workshop & Showcase. Learn how you can uncover cost savings while reducing your organization's environmental impacts with strategies for fleet\, facilities\, and grounds. This event is open to the public\, but facilities\, fleet\, or operations managers for businesses or non-profit organization are encouraged to attend. Lunch is included with registration. AGENDA: 9 a.m. Registration\, Networking and Vendor Booth Displays 9:30 a.m. Welcoming Remarks 10 a.m. Session One: Fleet - Making the Switch for Cost Savings with Alternative Fuels 11 a.m. Session Two: Maintenance - Greener Products for Facilities and Grounds 12 p.m. Lunch: Including Vehicle Showcase and Century Center Tour 1:30 p.m. Session Three: Facilities - Beyond Efficiency with Innovative Strategies 2:30 p.m. Session Four: Facilities - Deep Energy Savings with Performance Contracting 3:30 p.m. Event Concludes 3:30 p.m. - 5:30 p.m. All attendees are invited to stay for the Century Center Energy Event
X-ALT-DESC;FMTTYPE=text/html:Join South Shore Clean Cities\, South Bend Office of Sustainability and Michiana Area Council of Governments for the first ever Green Business Workshop &amp\; Showcase. Learn how you can uncover cost savings while reducing your organization&rsquo\;s environmental impacts with strategies for fleet\, facilities\, and grounds. This event is open to the public\, but facilities\, fleet\, or operations managers for businesses or non-profit organization are encouraged to attend. Lunch is included with registration. AGENDA: 9 a.m. Registration\, Networking and Vendor Booth Displays 9:30 a.m. Welcoming Remarks 10 a.m. Session One: Fleet - Making the Switch for Cost Savings with Alternative Fuels 11 a.m. Session Two: Maintenance - Greener Products for Facilities and Grounds 12 p.m. Lunch: Including Vehicle Showcase and Century Center Tour 1:30 p.m. Session Three: Facilities - Beyond Efficiency with Innovative Strategies 2:30 p.m. Session Four: Facilities - Deep Energy Savings with Performance Contracting 3:30 p.m. Event Concludes 3:30 p.m. - 5:30 p.m. All attendees are invited to stay for the Century Center Energy Event
LOCATION:Century Center South Bend 120 S. Dr. Martin Luther King Jr. Blvd South Bend\, IN 46601
UID:e.1949.2899
SEQUENCE:3
DTSTAMP:20260425T002159Z
URL:https://members.laportepartnership.com/events/details/green-business-workshop-showcase-2899
END:VEVENT

END:VCALENDAR
