BEGIN:VCALENDAR
VERSION:2.0
PRODID:-//ChamberMaster//Event Calendar 2.0//EN
METHOD:PUBLISH
X-PUBLISHED-TTL:P3D
REFRESH-INTERVAL:P3D
CALSCALE:GREGORIAN
BEGIN:VEVENT
DTSTART:20180428T140000Z
DTEND:20180428T170000Z
X-MICROSOFT-CDO-ALLDAYEVENT:FALSE
SUMMARY:Guided Hike: Spring Ephemerals at the new Myrna Newgent Nature Preserve
DESCRIPTION:?This brand new Shirley Heinze Land Trust acquisition in Wills Township\, southeast of Rolling Prairie in LaPorte County\, is not yet open to the public.  Be among the first to see the outstanding display of spring wildflowers in this high quality woodland.  Though this property is only 16 acres\, it features a very high plant diversity and is part of a rich and much larger forest community.  Botanist Scott Namestnik with Orbis Environmental Consulting will lead us in this preserve.
X-ALT-DESC;FMTTYPE=text/html:<div>?This brand new Shirley Heinze Land Trust acquisition in Wills Township\, southeast of Rolling Prairie in LaPorte County\, is not yet open to the public.&nbsp\; Be among the first to see the outstanding display of spring wildflowers in this high quality woodland.&nbsp\; Though this property is only 16 acres\, it features a very high plant diversity and is part of a rich and much larger forest community.&nbsp\; Botanist Scott Namestnik with Orbis Environmental Consulting will lead us in this preserve.&nbsp\;&nbsp\;</div>\n\n<div>&nbsp\;</div>\n\n<hr />\n<div>&nbsp\;</div>\n
LOCATION:Myrna Newgent Nature Preserve near Rolling Prairie\, Indiana
UID:e.1949.2994
SEQUENCE:3
DTSTAMP:20260424T115924Z
URL:https://members.laportepartnership.com/events/details/guided-hike-spring-ephemerals-at-the-new-myrna-newgent-nature-preserve-2994
END:VEVENT

END:VCALENDAR
