BEGIN:VCALENDAR
VERSION:2.0
PRODID:-//ChamberMaster//Event Calendar 2.0//EN
METHOD:PUBLISH
X-PUBLISHED-TTL:P3D
REFRESH-INTERVAL:P3D
CALSCALE:GREGORIAN
BEGIN:VEVENT
DTSTART:20161028T230000Z
DTEND:20161029T010000Z
X-MICROSOFT-CDO-ALLDAYEVENT:FALSE
SUMMARY:Halloween Fun Night with the Y!
DESCRIPTION:Family Fun Night: Friday\, October 28\, 2016 from 6-8 pm\n\nJoin us for a night of spooks and fun at the La Porte Y Branch! Connect with the family by playing fun games\, trick-or-treating and dressing up in your best costumes! There will be bingo\, open swimming in the Jones Family Pool\, games\, treats and much more. The fun begins at 6 p.m. and ends at 8 p.m. If you wish to swim\, make sure to bring your swimsuit and towel. Children must be accompanied by an adult. FREE & OPEN TO THE ENTIRE COMMUNITY!\n\n\n\nHaunted Trail: October 28\, 2015 from 7-9 pm\n\nCome out for an evening of haunted trails\, thrills and chills at our Andrew Avenue Outdoor Center\, 1400 Andrew Ave\, La Porte. This spooky event\, hosted by volunteers and La Porte County Family YMCA staff\, will be a night to remember this Halloween. Walk through the haunted woods or enjoy festive concessions at the pavilion. This event is for the whole family\, but we warn you\, it will be SCARY! Cost is $2/per person or $5/per family.
X-ALT-DESC;FMTTYPE=text/html:<strong>Family Fun Night: Friday\, October 28\, 2016 from 6-8 pm</strong><br />\nJoin us for a night of spooks and fun at the La Porte Y Branch! Connect with the family by playing fun&nbsp\;games\, trick-or-treating and dressing up in your best costumes! There will be bingo\, open swimming in&nbsp\;the Jones Family Pool\, games\, treats and much more. The fun begins at 6 p.m. and ends at 8 p.m. If you&nbsp\;wish to swim\, make sure to bring your swimsuit and towel. Children must be accompanied by an adult.&nbsp\;<strong>FREE &amp\; OPEN TO THE ENTIRE COMMUNITY!</strong><br />\n<br />\n<strong>Haunted Trail: October 28\, 2015 from 7-9 pm</strong><br />\nCome out for an evening of haunted trails\, thrills and chills at our Andrew Avenue Outdoor Center\,&nbsp\;1400 Andrew Ave\, La Porte. This spooky event\, hosted by volunteers and La Porte County Family YMCA&nbsp\;staff\, will be a night to remember this Halloween. Walk through the haunted woods or enjoy festive&nbsp\;concessions at the pavilion. This event is for the whole family\, but we warn you\, it will be SCARY!&nbsp\;Cost is $2/per person or $5/per family.
LOCATION:Family Fun Night La Porte Y Branch 901 Michigan Avenue\, La Porte Haunted Trail Andrew Avenue Outdoor Center 1400 Andrew Ave\, La Porte
UID:e.1949.2654
SEQUENCE:3
DTSTAMP:20260425T204150Z
URL:https://members.laportepartnership.com/events/details/halloween-fun-night-with-the-y-2654
END:VEVENT

END:VCALENDAR
