BEGIN:VCALENDAR
VERSION:2.0
PRODID:-//ChamberMaster//Event Calendar 2.0//EN
METHOD:PUBLISH
X-PUBLISHED-TTL:P3D
REFRESH-INTERVAL:P3D
CALSCALE:GREGORIAN
BEGIN:VEVENT
DTSTART:20180323T200000Z
DTEND:20180323T220000Z
X-MICROSOFT-CDO-ALLDAYEVENT:FALSE
SUMMARY:Happy Hour Demo with Qubit!
DESCRIPTION:Join us on Friday\, March 23rd as we present on the many communication options available to you today and in the future. Enjoy a drink and appetizers on us as we discuss the following:\n\n	What are some of the differences between VoIP\, On-Premise and Hybrid Cloud Communication alternatives?\n	If my phone system still works\, how long should I keep it?\n	When is the right time to consider a new phone system?\n	What hybrid or cloud alternatives are out there and what should I expect to pay?\n	We have multiple locations and need our systems to operate from one pane of glass. How does that work?\n	If I still use analog phones in the warehouse\, is there any alternative to rip and replace?\n	Is there a way to lower my monthly phone bill with a new system?\n\nThe maintenance issues on my phone are becoming a problem. What are the alternatives?
X-ALT-DESC;FMTTYPE=text/html:<strong><span style="color:#43404D\;"><span style="font-family:georgia\,serif\;"><span style="font-size:11.5pt\;">Join us on Friday\, March 23rd as we present on the many communication options available to you today and in the future. Enjoy a drink and appetizers on us as we discuss the following:</span></span></span></strong>\n<ul>\n	<li style="color:#43404D\;line-height:150%\;-ms-text-size-adjust:100%\;-webkit-text-size-adjust:100%\;"><span style="font-family:georgia\,serif\;"><span style="font-size:11.5pt\;">What are some of the differences between VoIP\, On-Premise and Hybrid Cloud Communication alternatives?</span></span></li>\n	<li style="color:#43404D\;line-height:150%\;-ms-text-size-adjust:100%\;-webkit-text-size-adjust:100%\;"><span style="font-family:georgia\,serif\;"><span style="font-size:11.5pt\;">If my phone system still works\, how long should I keep it?</span></span></li>\n	<li style="color:#43404D\;line-height:150%\;-ms-text-size-adjust:100%\;-webkit-text-size-adjust:100%\;"><span style="font-family:georgia\,serif\;"><span style="font-size:11.5pt\;">When is the right time to consider a new phone system?</span></span></li>\n	<li style="color:#43404D\;line-height:150%\;-ms-text-size-adjust:100%\;-webkit-text-size-adjust:100%\;"><span style="font-family:georgia\,serif\;"><span style="font-size:11.5pt\;">What hybrid or cloud alternatives are out there and what should I expect to pay?</span></span></li>\n	<li style="color:#43404D\;line-height:150%\;-ms-text-size-adjust:100%\;-webkit-text-size-adjust:100%\;"><span style="font-family:georgia\,serif\;"><span style="font-size:11.5pt\;">We have multiple locations and need our systems to operate from one pane of glass. How does that work?</span></span></li>\n	<li style="color:#43404D\;line-height:150%\;-ms-text-size-adjust:100%\;-webkit-text-size-adjust:100%\;"><span style="font-family:georgia\,serif\;"><span style="font-size:11.5pt\;">If I still use analog phones in the warehouse\, is there any alternative to rip and replace?</span></span></li>\n	<li style="color:#43404D\;line-height:150%\;-ms-text-size-adjust:100%\;-webkit-text-size-adjust:100%\;"><span style="font-family:georgia\,serif\;"><span style="font-size:11.5pt\;">Is there a way to lower my monthly phone bill with a new system?</span></span></li>\n</ul>\n<span style="color:#43404D\;"><span style="font-family:georgia\,serif\;"><span style="font-size:11.5pt\;">The maintenance issues on my phone are becoming a problem. What are the alternatives?</span></span></span>
LOCATION:Patrick's Grille 4125 Franklin Street Michigan City
UID:e.1949.3067
SEQUENCE:3
DTSTAMP:20260424T133959Z
URL:https://members.laportepartnership.com/events/details/happy-hour-demo-with-qubit-3067
END:VEVENT

END:VCALENDAR
