BEGIN:VCALENDAR
VERSION:2.0
PRODID:-//ChamberMaster//Event Calendar 2.0//EN
METHOD:PUBLISH
X-PUBLISHED-TTL:P3D
REFRESH-INTERVAL:P3D
CALSCALE:GREGORIAN
BEGIN:VEVENT
DTSTART:20180111T190000Z
DTEND:20180111T200000Z
X-MICROSOFT-CDO-ALLDAYEVENT:FALSE
SUMMARY:Happy New Year for Safety at Settlers Place
DESCRIPTION:HAPPY NEW YEAR FOR SAFETY\n\nSETTLERS PLACE SENIOR LIVING\n\nAt 3304 Monroe Street\n\nLaPorte\, Indiana 46350\n\n WOULD LIKE TO INVITE YOU TO JOIN US ON JANUARY 11\, 2018 AT 1:00PM FOR A PRESENTATION ON HOUSEHOLD SAFETY!!!\n\n Speaker: Billy Degnegaard (Executive Captain) from the police department. \n\nRefreshments will be available\n\nEveryone is welcome\n\nPLEASE RSVP TO HEIDI OR JANET AT 219-326-7283
X-ALT-DESC;FMTTYPE=text/html:<span style="font-family:cambria math\,serif\;"><span style="font-size:28.0pt\;">HAPPY NEW YEAR FOR SAFETY</span></span><br />\n<span style="color:#17365D\;"><span style="font-family:cambria math\,serif\;"><span style="font-size:24.0pt\;">SETTLERS PLACE SENIOR LIVING</span></span></span><br />\n<span style="color:#17365D\;"><span style="font-family:cambria math\,serif\;"><span style="font-size:14.0pt\;">At 3304 Monroe Street</span></span></span><br />\n<span style="color:#17365D\;"><span style="font-family:cambria math\,serif\;"><span style="font-size:14.0pt\;">LaPorte\, Indiana 46350</span></span></span><br />\n<span style="font-family:cambria math\,serif\;"><span style="font-size:20.0pt\;">&nbsp\;WOULD LIKE TO INVITE YOU TO JOIN US ON JANUARY 11\, 2018 AT 1:00PM FOR A PRESENTATION ON </span></span><span style="color:black\;"><span style="font-family:arial black\,sans-serif\;"><span style="font-size:20.0pt\;">HOUSEHOLD SAFETY</span></span></span><span style="font-family:cambria math\,serif\;"><span style="font-size:20.0pt\;">!!!</span></span><br />\n<span style="font-family:fangsong\;"><span style="font-size:20.0pt\;">&nbsp\;Speaker: Billy Degnegaard (Executive Captain) from the police department. </span></span><br />\n<strong><em><u><span style="font-family:fangsong\;"><span style="font-size:20.0pt\;">Refreshments will be available</span></span></u></em></strong><br />\n<strong><em><u><span style="font-family:fangsong\;"><span style="font-size:20.0pt\;">Everyone is welcome</span></span></u></em></strong><br />\n<span style="font-family:fangsong\;"><span style="font-size:20.0pt\;">PLEASE RSVP TO HEIDI OR JANET AT 219-326-7283</span></span>
LOCATION:Settlers Place 3304 Monroe Street\, La Porte
UID:e.1949.3015
SEQUENCE:3
DTSTAMP:20260424T174616Z
URL:https://members.laportepartnership.com/events/details/happy-new-year-for-safety-at-settlers-place-3015
END:VEVENT

END:VCALENDAR
