BEGIN:VCALENDAR
VERSION:2.0
PRODID:-//ChamberMaster//Event Calendar 2.0//EN
METHOD:PUBLISH
X-PUBLISHED-TTL:P3D
REFRESH-INTERVAL:P3D
CALSCALE:GREGORIAN
BEGIN:VEVENT
DTSTART:20161013T160000Z
DTEND:20161013T180000Z
X-MICROSOFT-CDO-ALLDAYEVENT:FALSE
SUMMARY:Harbour Trust Luncheon featuring La Porte Sports Legend Ron Reed
DESCRIPTION:The Greater La Porte Chamber of Commerce will host a luncheon featuring La Porte sports legend Ron Reed on Thursday\, October 13 at Best Western Plus\, 444 Pine Lake Avenue in La Porte. Registration for this event will begin at 11:00 a.m. with lunch and the program beginning at 11:30 a.m. Harbour Trust & Investment Management Company is sponsoring this event and was instrumental in helping it to come to fruition.\n\n \n\nRon Reed was born in 1942 in La Porte\, Indiana\, and he had a long career in sports\, including both baseball and basketball\, playing for La Porte High School\, University of Notre Dame\, Atlanta Braves\, Philadelphia Phillies\, Detroit Pistons\, and others. Ron Reed has been honored by the City of La Porte throughout the years\, being given a key to the city and having Ron Reed Field in Fox Park named in his honor. At this event\, there will be a proclamation to name the day Ron Reed Day.\n\n \n\nRegistration is encouraged for this event and can be done online by clicking the register button above or by calling 219.362.3178. The cost for attendance is $31 for Chamber members and $36 for non-Chamber members. This event includes a lunch buffet. One dollar of every admittance will be given to the La Porte City Parks Department.\n\n \n\nTo learn more about Harbour Trust & Investment Management Company\, visit www.harbourtrust.com.
X-ALT-DESC;FMTTYPE=text/html:The <strong>Greater La Porte Chamber of Commerce</strong> will host a luncheon featuring La Porte sports legend Ron Reed on Thursday\, October 13 at <strong>Best Western Plus</strong>\, 444 Pine Lake Avenue in La Porte. Registration for this event will begin at 11:00 a.m. with lunch and the program beginning at 11:30 a.m. <strong>Harbour Trust &amp\; Investment Management Company </strong>is sponsoring this event and was instrumental in helping it to come to fruition.<br />\n&nbsp\;<br />\nRon Reed was born in 1942 in La Porte\, Indiana\, and he had a long career in sports\, including both baseball and basketball\, playing for La Porte High School\, University of Notre Dame\, Atlanta Braves\, Philadelphia Phillies\, Detroit Pistons\, and others. Ron Reed has been honored by the City of La Porte throughout the years\, being given a key to the city and having Ron Reed Field in Fox Park named in his honor. At this event\, there will be a proclamation to name the day Ron Reed Day.<br />\n&nbsp\;<br />\nRegistration is encouraged for this event and can be done online by clicking the&nbsp\;register button above or by calling 219.362.3178. The cost for attendance is $31 for Chamber members and $36 for non-Chamber members. This event includes a lunch buffet. One dollar of every admittance will be given to the La Porte City Parks Department.<br />\n&nbsp\;<br />\nTo learn more about <strong>Harbour Trust &amp\; Investment Management Company\, </strong>visit www.harbourtrust.com.
LOCATION:Best Western Plus 444 Pine Lake Avenue La Porte
UID:e.1949.2628
SEQUENCE:3
DTSTAMP:20260425T223634Z
URL:https://members.laportepartnership.com/events/details/harbour-trust-luncheon-featuring-la-porte-sports-legend-ron-reed-2628
END:VEVENT

END:VCALENDAR
