BEGIN:VCALENDAR
VERSION:2.0
PRODID:-//ChamberMaster//Event Calendar 2.0//EN
METHOD:PUBLISH
X-PUBLISHED-TTL:P3D
REFRESH-INTERVAL:P3D
CALSCALE:GREGORIAN
BEGIN:VEVENT
DTSTART:20191012T190000Z
DTEND:20191012T220000Z
X-MICROSOFT-CDO-ALLDAYEVENT:FALSE
SUMMARY:Haunted Trail and Family Fall Fest
DESCRIPTION:Trick-or-Treat on our spooky trail and enjoy crafts/games! Food and beverages available for purchase to enjoy around the bonfire! This is a family-friendly event. Tickets available on Eventbrite\, our website or at the door.
X-ALT-DESC;FMTTYPE=text/html:<p><span style="background-color:transparent\; color:rgb(0\, 0\, 0)\; font-family:times new roman\; font-size:12pt">Trick-or-Treat on our spooky trail and enjoy crafts/games! Food and beverages available for purchase to enjoy around the bonfire! This is a family-friendly event. Tickets available on Eventbrite\, our website or at the door.</span></p>\n
LOCATION:Friendship Botanic Gardens 2055 East US Highway 12 Michigan City\, IN 46360
UID:e.1949.4329
SEQUENCE:3
DTSTAMP:20260423T063359Z
URL:https://members.laportepartnership.com/events/details/haunted-trail-and-family-fall-fest-4329
END:VEVENT

END:VCALENDAR
