BEGIN:VCALENDAR
VERSION:2.0
PRODID:-//ChamberMaster//Event Calendar 2.0//EN
METHOD:PUBLISH
X-PUBLISHED-TTL:P3D
REFRESH-INTERVAL:P3D
CALSCALE:GREGORIAN
BEGIN:VEVENT
DTSTART:20181004T210000Z
DTEND:20181004T230000Z
X-MICROSOFT-CDO-ALLDAYEVENT:FALSE
SUMMARY:Haverstock Funeral Home Ribbon Cutting and Open House
DESCRIPTION:Join Haverstock Funeral Home and Cremation Services for a ribbon cutting and open house event on Thursday\, Oct 4 from 4 p.m. to 6 p.m. The event is in celebration of Haverstock's 90th Anniversary serving the greater La Porte community. The ribbon cutting will take place at 4:30 p.m. at Haverstock Funeral Home and Cremation Services\, 602 Maple Ave. in La Porte and will be administered by the Greater La Porte Chamber of Commerce.\n\n\n\nThere is no cost to attend. Guests will also have the opportunity to attend the Open House immediately following the ribbon cutting until 6 p.m. the same day. Registration is encouraged and can be done by calling the Chamber at (219) 362-3178 or online at business.lpchamber.com/events.
X-ALT-DESC;FMTTYPE=text/html:<span style="color:black\;">Join <strong><a href="https://www.haverstockfuneralhome.com/">Haverstock Funeral Home and Cremation Services</a></strong> for a ribbon cutting and open house event on Thursday\, Oct 4 from 4 p.m. to 6 p.m. The event is in celebration of Haverstock&#39\;s 90th Anniversary serving the greater La Porte community. </span><span style="color:black\;">The ribbon cutting will take place at 4:30 p.m. at Haverstock Funeral Home and Cremation Services\, 602 Maple Ave. in La Porte and will be administered by the <strong><a href="https://www.lpchamber.com/">Greater La Porte Chamber of Commerce</a>.</strong><br />\n<br />\nThere is no cost to attend. Guests will also have the opportunity to attend the Open House immediately following the ribbon cutting until 6 p.m. the same day. Registration is encouraged and can be done by calling the Chamber at (219) 362-3178 or online at business.lpchamber.com/events.</span><br />\n<br />\n<br />\n&nbsp\;
LOCATION:602 Maple Ave.\, La Porte\, IN 46350
UID:e.1949.4255
SEQUENCE:3
DTSTAMP:20260424T042243Z
URL:https://members.laportepartnership.com/events/details/haverstock-funeral-home-ribbon-cutting-and-open-house-4255
END:VEVENT

END:VCALENDAR
