BEGIN:VCALENDAR
VERSION:2.0
PRODID:-//ChamberMaster//Event Calendar 2.0//EN
METHOD:PUBLISH
X-PUBLISHED-TTL:P3D
REFRESH-INTERVAL:P3D
CALSCALE:GREGORIAN
BEGIN:VEVENT
DTSTART:20171208T160000Z
DTEND:20171208T180000Z
X-MICROSOFT-CDO-ALLDAYEVENT:FALSE
SUMMARY:Haynes International Hiring Event at WorkOne La Porte
DESCRIPTION:Haynes International Hiring Event\n\nFriday\, December 8\, 2017\n\nStarts promptly at 10am\n\nHaynes International is one of the world's largest developers\, manufacturers\, and distributors of high-performance nickel- and cobalt-based alloys for use in high-temperature and corrosion applications. Our standard product forms include sheet and plate\, bar and billet\, seamless and welded pipe and tubing\, wire and welding consumables\, fittings and flanges.\n\nAvailable Positions:\n\nMultiple positions available. Go to www.indianacareerconnect.com and search for job order 8952973 for details on open positions.\n\n\n\nImportant Information:\n\n-Must be available to work 2nd shift\n\n-Must be available for weekend overtime\n\n-Be prepared for on-site interviews\n\n-Bring updated resume\n\n-Dress for success\n\n\n\nTo be considered for open positions\, apply to job order 8952973\, attach your resume in Indiana Career Connect\, and attend this event.\n\n\n\nLocation:\n\nWorkOne La Porte\n\n300 Legacy Plaza West\n\nLa Porte\, IN 46350\n\nQuestions? Contact Melissa at 219-762-6592\, ext. 258 or mcantrell@gotoworkonenw.com.
X-ALT-DESC;FMTTYPE=text/html:Haynes International Hiring Event<br />\nFriday\, December 8\, 2017<br />\nStarts promptly at 10am<br />\nHaynes International is one of the world&#39\;s largest developers\, manufacturers\, and distributors of high-performance nickel- and cobalt-based alloys for use in high-temperature and corrosion applications. Our standard product forms include sheet and plate\, bar and billet\, seamless and welded pipe and tubing\, wire and welding consumables\, fittings and flanges.<br />\nAvailable Positions:<br />\nMultiple positions available. Go to www.indianacareerconnect.com and search for job order 8952973 for details on open positions.<br />\n<br />\nImportant Information:<br />\n-Must be available&nbsp\;to work 2nd shift<br />\n-Must be available for weekend overtime<br />\n-Be prepared for on-site interviews<br />\n-Bring updated resume<br />\n-Dress for success<br />\n<br />\nTo be considered for open positions\, apply to job order 8952973\, attach your resume in Indiana Career Connect\, and attend this event.<br />\n<br />\nLocation:<br />\nWorkOne La Porte<br />\n300 Legacy Plaza West<br />\nLa Porte\, IN 46350<br />\nQuestions? Contact Melissa at 219-762-6592\, ext. 258 or mcantrell@gotoworkonenw.com.
LOCATION:WorkOne La Porte 300 Legacy Plaza West La Porte
UID:e.1949.2974
SEQUENCE:3
DTSTAMP:20260424T213628Z
URL:https://members.laportepartnership.com/events/details/haynes-international-hiring-event-at-workone-la-porte-2974
END:VEVENT

END:VCALENDAR
