BEGIN:VCALENDAR
VERSION:2.0
PRODID:-//ChamberMaster//Event Calendar 2.0//EN
METHOD:PUBLISH
X-PUBLISHED-TTL:P3D
REFRESH-INTERVAL:P3D
CALSCALE:GREGORIAN
BEGIN:VEVENT
DTSTART:20161011T233000Z
DTEND:20161012T003000Z
X-MICROSOFT-CDO-ALLDAYEVENT:FALSE
SUMMARY:Health Care and Your Retirement- Edward Jones\, Sarah Brown
DESCRIPTION:What role will Medicare play during your retirement?\n\nYou're invited\n\nThe increasing cost of health care is a growing concern for current and future retirees. In fact\, 25 years ago\, retirees spent almost twice as much on food as on health care\; now the amounts are nearly equal.*\n\n\n\nJoin us for a our presentation Health Care and Your Retirement. We'll Discuss:\n\n-Medicare coverage and traditional medical expenses\n\n-Long-term medical care expenses\n\n-Strategies for addressing uncovered expenses\n\n\n\nWe hope you and a guest will join us. Please call Sherry Wilke at 219-325-8828 or email sherry.wilke@edwardjones.com by October 10.\n\n\n\nRefreshments will be served.\n\nTuesday\, October 11. 2016 at 6:30 p.m.\n\n\n\nMy Edward Jones Office\n\n1233 N. State Road 39\n\nLa Porte\, IN 46350\n\n\n\n*Source: The Federal Reserve and Edward Jones estimates.\n\nThe contents of this presentation are for informational purposes only. Edward Jones doesn't offer health insurance\; however\, we believe discussing the impact of health care costs within your retirement strategy is important\, especially considering that rising health care costs may affect many investors approaching retirement.\n\n\n\nWhile the information is believed to be accurate\, its accuracy and completeness are not guaranteed and are subject to change without notice. You should rely on Medicare for complete program details. For more information on Medicare\, visit www.medicare.gov.
X-ALT-DESC;FMTTYPE=text/html:What role will Medicare play during your retirement?<br />\nYou&#39\;re invited<br />\nThe increasing cost of health care is a growing concern for current and future retirees. In fact\, 25 years ago\, retirees spent almost twice as much on food as on health care\; now the amounts are nearly equal.*<br />\n<br />\nJoin us for a our presentation Health Care and Your Retirement. We&#39\;ll Discuss:<br />\n-Medicare coverage and traditional medical expenses<br />\n-Long-term medical care expenses<br />\n-Strategies for addressing uncovered expenses<br />\n<br />\nWe hope you and a guest will join us. Please call Sherry Wilke at 219-325-8828 or email sherry.wilke@edwardjones.com by October 10.<br />\n<br />\nRefreshments will be served.<br />\nTuesday\, October 11. 2016 at 6:30 p.m.<br />\n<br />\nMy Edward Jones Office<br />\n1233 N. State Road 39<br />\nLa Porte\, IN 46350<br />\n<br />\n*Source: The Federal Reserve and Edward Jones estimates.<br />\nThe contents of this presentation are for informational purposes only. Edward Jones doesn&#39\;t offer health insurance\; however\, we believe discussing the impact of health care costs within your retirement strategy is important\, especially considering that rising health care costs may affect many investors approaching retirement.<br />\n<br />\nWhile the information is believed to be accurate\, its accuracy and completeness are not guaranteed and are subject to change without notice. You should rely on Medicare for complete program details. For more information on Medicare\, visit www.medicare.gov.
LOCATION:Edward Jones- Sarah Brown 1233 N. State Road 39 La Porte
UID:e.1949.2634
SEQUENCE:3
DTSTAMP:20260425T204540Z
URL:https://members.laportepartnership.com/events/details/health-care-and-your-retirement-edward-jones-sarah-brown-2634
END:VEVENT

END:VCALENDAR
