BEGIN:VCALENDAR
VERSION:2.0
PRODID:-//ChamberMaster//Event Calendar 2.0//EN
METHOD:PUBLISH
X-PUBLISHED-TTL:P3D
REFRESH-INTERVAL:P3D
CALSCALE:GREGORIAN
BEGIN:VEVENT
DTSTART:20160830T233000Z
DTEND:20160831T003000Z
X-MICROSOFT-CDO-ALLDAYEVENT:FALSE
SUMMARY:Health Care and Your Retirement Seminar with Edward Jones- Sarah Brown
DESCRIPTION:What role will Medicare play during your retirement?\n\n\n\nThe increasing cost of health care is a growing concern for current and future retirees. In fact\, 25 years ago\, retirees spent almost twice as much on food as on health care\; now the amounts are nearly equal.*\n\n\n\nJoin us for our presentation Health Care and Your Retirement. We'll discuss:\n\n-Medicare coverage and traditional medical expenses\n\n-Long-term medical care expenses\n\n-Strategies for addressing uncovered expenses\n\n\n\nRefreshments will be served.\n\n\n\nTuesday\, August 30\, 2016\n\n6:30 p.m.-7:30 p.m.\n\n\n\nSarah Brown's Edward Jones Office\n\n1233 N. State Road 39\n\nLa Porte\, IN 46350\n\n\n\nWe hope you will join us. Please call Sherry at 219-325-8828 or email sherry-wilke@edwardjones.com by August 26th.\n\n\n\nRick C. Peterson\, from Health Markets will e available to answer your Medicare questions.\n\n\n\n*Source: The Federal Reserve and Edward Jones estimates.\n\n\n\nThe contents of this presentation are for informational purposes only. Edward Jones doesn't offer health insurance\; however\, we believe discussing the impact of health care costs within your retirement strategy is important\, espcially considering that rising health care costs may affect many investors approaching retirement.\n\n\n\nWhile the information is believed to be accurate\, its accuracy and completeness are not guaranteed and are subject to change without notice. You should rely on Medicare for complete program details. For more information on Medicare\, visit www.meicare.gov.
X-ALT-DESC;FMTTYPE=text/html:What role will Medicare play during your retirement?<br />\n<br />\nThe increasing cost of health care is a growing concern for current and future retirees. In fact\, 25 years ago\, retirees spent almost twice as much on food as on health care\; now the amounts are nearly equal.*<br />\n<br />\nJoin us for our presentation Health Care and Your Retirement. We&#39\;ll discuss:<br />\n-Medicare coverage and traditional medical expenses<br />\n-Long-term medical care expenses<br />\n-Strategies for addressing uncovered expenses<br />\n<br />\nRefreshments will be served.<br />\n<br />\nTuesday\, August 30\, 2016<br />\n6:30 p.m.-7:30 p.m.<br />\n<br />\nSarah Brown&#39\;s Edward Jones Office<br />\n1233 N. State Road 39<br />\nLa Porte\, IN 46350<br />\n<br />\nWe hope you will join us. Please call Sherry at 219-325-8828 or email sherry-wilke@edwardjones.com by August 26th.<br />\n<br />\nRick C. Peterson\, from Health Markets will e available to answer your Medicare questions.<br />\n<br />\n*Source: The Federal Reserve and Edward Jones estimates.<br />\n<br />\nThe contents of this presentation are for informational purposes only. Edward Jones doesn&#39\;t offer health insurance\; however\, we believe discussing the impact of health care costs within your retirement strategy is important\, espcially&nbsp\;considering that rising health care costs may affect many investors approaching retirement.<br />\n<br />\nWhile the information is believed to be accurate\, its accuracy and completeness are not guaranteed and are subject to change without notice. You should rely on Medicare for complete program details. For more information on Medicare\, visit www.meicare.gov.
LOCATION:Sarah Brown's Edward Jones Office 1233 N. State Road 39 La Porte
UID:e.1949.2606
SEQUENCE:3
DTSTAMP:20260426T022001Z
URL:https://members.laportepartnership.com/events/details/health-care-and-your-retirement-seminar-with-edward-jones-sarah-brown-08-30-2016-2606
END:VEVENT

END:VCALENDAR
