BEGIN:VCALENDAR
VERSION:2.0
PRODID:-//ChamberMaster//Event Calendar 2.0//EN
METHOD:PUBLISH
X-PUBLISHED-TTL:P3D
REFRESH-INTERVAL:P3D
CALSCALE:GREGORIAN
BEGIN:VEVENT
DTSTART:20160915T200000Z
DTEND:20160915T230000Z
X-MICROSOFT-CDO-ALLDAYEVENT:FALSE
SUMMARY:Healthy Minds Matter with Healthy Communities of LaPorte County
DESCRIPTION:Healthy Communities of La Porte County will host Healthy Minds Matter on September 15 from 3:00 p.m.-6:00 p.m. This event will take place at 301 E. 8th Street in Michigan City. Free presentations on mental health topics\, a panel\, Q&A\, health vendors\, and activities will be at this event. The public and community service workers are invited to attend. For information on event sponsorship\, vendor information\, or questions\, contact: Jennifer Olson at 219.210.3499 or jennifer@healthycommunitieslpc.org. This is a free event with presentations\, the opportunity to meet providers\, information\, resources\, vendors\, and giveaways.
X-ALT-DESC;FMTTYPE=text/html:Healthy Communities of La Porte County will host Healthy Minds Matter on September 15 from 3:00 p.m.-6:00 p.m. This event will take place at 301 E. 8th Street in Michigan City. Free presentations on mental health topics\, a panel\, Q&amp\;A\, health vendors\, and activities will be at this event. The public and community service workers are invited to attend. For information on event sponsorship\, vendor information\, or questions\, contact: Jennifer Olson at 219.210.3499 or jennifer@healthycommunitieslpc.org. This is a free event with presentations\, the opportunity to meet providers\, information\, resources\, vendors\, and giveaways.
LOCATION:301 E. 8th St. Michigan City
UID:e.1949.2623
SEQUENCE:3
DTSTAMP:20260425T223634Z
URL:https://members.laportepartnership.com/events/details/healthy-minds-matter-with-healthy-communities-of-laporte-county-2623
END:VEVENT

END:VCALENDAR
