BEGIN:VCALENDAR
VERSION:2.0
PRODID:-//ChamberMaster//Event Calendar 2.0//EN
METHOD:PUBLISH
X-PUBLISHED-TTL:P3D
REFRESH-INTERVAL:P3D
CALSCALE:GREGORIAN
BEGIN:VEVENT
DTSTART:20200514T230000Z
DTEND:20200515T023000Z
X-MICROSOFT-CDO-ALLDAYEVENT:FALSE
SUMMARY:Hello Spring! Gala Celebration
DESCRIPTION:Help Dunebrook educate\, support and nurture so children and families can blossom.\n\nFeaturing dinner\, candy by Albanese\, cash bar\, fabulous silent auction & live musical entertainment.
X-ALT-DESC;FMTTYPE=text/html:<h3 0.24s="" 0px="" background-color:="" border:="" color:="" ease-in-out="" font-size:="" font-stretch:="" font-variant-east-asian:="" font-variant-numeric:="" font-weight:="" line-height:="" margin:="" opacity="" opacity:="" padding:="" playfair="" style="box-sizing: border-box\; outline: none\; text-align: center\;" text-align:="" transition:="" visibility:=""><span style="font-size:16px\;"><span style="box-sizing: border-box\; outline: none\; margin: 0px\; padding: 0px\; border: 0px\; font-style: inherit\; font-variant: inherit\; font-weight: inherit\; font-stretch: inherit\; line-height: inherit\; font-family: tahoma\, arial\, helvetica\, sans-serif\;">Help Dunebrook educate\, support and nurture so children and families can blossom.</span></span></h3>\n\n<h3 0.24s="" 0px="" background-color:="" border:="" color:="" ease-in-out="" font-size:="" font-stretch:="" font-variant-east-asian:="" font-variant-numeric:="" font-weight:="" line-height:="" margin:="" opacity="" opacity:="" padding:="" playfair="" style="box-sizing: border-box\; outline: none\; text-align: center\;" text-align:="" transition:="" visibility:=""><span style="font-size:16px\;"><span style="box-sizing: border-box\; outline: none\; margin: 0px\; padding: 0px\; border: 0px\; font-style: inherit\; font-variant: inherit\; font-weight: inherit\; font-stretch: inherit\; line-height: inherit\; font-family: tahoma\, arial\, helvetica\, sans-serif\;">Featuring dinner\, candy by Albanese\, cash bar\, fabulous silent auction &amp\; live musical entertainment.</span></span></h3>\n
LOCATION:Pottawattomie Country Club 1900 Springland Avenue\, Michigan City
UID:e.1949.4565
SEQUENCE:3
DTSTAMP:20260422T192415Z
URL:https://members.laportepartnership.com/events/details/hello-spring-gala-celebration-4565
END:VEVENT

END:VCALENDAR
