BEGIN:VCALENDAR
VERSION:2.0
PRODID:-//ChamberMaster//Event Calendar 2.0//EN
METHOD:PUBLISH
X-PUBLISHED-TTL:P3D
REFRESH-INTERVAL:P3D
CALSCALE:GREGORIAN
BEGIN:VEVENT
DTSTART:20160625T160000Z
DTEND:20160625T190000Z
X-MICROSOFT-CDO-ALLDAYEVENT:FALSE
SUMMARY:Helping Homeless Heroes
DESCRIPTION:Homes for Heroes is hosting our 4th Annual Fundraising Event that directly impacts local veterans. Throughout the years\, we have been fortunate to donate thousands of dollars that goes towards the wellness and housing of our community veterans. On Saturday\, June 25th\, we will be hosting a fundraiser benefiting the Robert L. Miller Sr. Veteran's Center and the Kernan's Heroes program. We will be selling Nelson's Port-a-Pit chicken and we will have a live radio broadcast with B100 and will be giving away B100 Birthday Concert Tickets! There will also be a children's play area and involvement with Mishawaka police\, fire\, and military personnel.
X-ALT-DESC;FMTTYPE=text/html:Homes for Heroes is hosting our 4th Annual Fundraising Event that directly impacts local veterans. Throughout the years\, we have been fortunate to donate thousands of dollars that goes towards the wellness and housing of our community veterans. On Saturday\, June 25th\, we will be hosting a fundraiser benefiting the Robert L. Miller Sr. Veteran&#39\;s Center and the Kernan&#39\;s Heroes program. We will be selling Nelson&#39\;s Port-a-Pit chicken and we will have a live radio broadcast with B100 and will be giving away B100 Birthday Concert Tickets! There will also be a children&#39\;s play area and involvement with Mishawaka police\, fire\, and military personnel.
LOCATION:1638 E Day Rd. Mishawaka\, IN. 46545 In parking lot of McKinnies Realty/Homes for Heroes
UID:e.1949.2568
SEQUENCE:3
DTSTAMP:20260426T033916Z
URL:https://members.laportepartnership.com/events/details/helping-homeless-heroes-06-25-2016-2568
END:VEVENT

END:VCALENDAR
