BEGIN:VCALENDAR
VERSION:2.0
PRODID:-//ChamberMaster//Event Calendar 2.0//EN
METHOD:PUBLISH
X-PUBLISHED-TTL:P3D
REFRESH-INTERVAL:P3D
CALSCALE:GREGORIAN
BEGIN:VEVENT
DTSTART:20190908T140000Z
DTEND:20190908T160000Z
X-MICROSOFT-CDO-ALLDAYEVENT:FALSE
SUMMARY:Herd Meditation
DESCRIPTION:Do you long to take time for yourself during the week to breathe deeply and unwind? Horses embody presence and peacefulness. Immerse yourself in nature and the healing energy of horses... No experience with horses or meditation is necessary.\n\n\n\nJoin Anam Cara on August 11th at 9:00 AM CST for a Herd Meditation. Space is limited for this Donation-based event\, so please be sure to RSVP by clicking the Tickets button to secure your spot! https://anamcarastables.as.me/HerdMeditation\n\n\n\nPlease join us in meditating on the concepts of mindfulness\, true consent and kind boundaries with horses and humans alike.\n\n\n\nHerd Meditation\n\n  Meet & greet at Anam Cara\n\n  Walk out to join the herd for a partly guided meditation\n\n  Shift into a silent walking meditation with the herd\n\n  Come back together to share our experiences\n\n  Brief closing meditation\n\n\n\nPlease dress for the weather\, wear close-toed shoes\, and bring your own portable/camping chair\, water bottle\, journal and whatever you need to be comfortable. \n\n\n\nSuggested donation: $5 - $30\n\n\n\nFor more information about the great woman who inspired us all:\n\nRen Hurst: https://www.youtube.com/watch?v=RdhRRs1Xi8c\n\nStormy May: http://ourhorses.org/\n\nHealing with Horse Collective: http://www.healingwithhorse.org/tele-summit\n\n\n\nYou can also join the closed Facebook group\, Anam Cara's Herd Meditation for more discussion.
X-ALT-DESC;FMTTYPE=text/html:<span style="color:rgb(29\, 33\, 41)\; font-family:helvetica\,arial\,sans-serif\; font-size:14px">Do you long to take time for yourself during the week to breathe deeply and unwind? Horses embody presence and peacefulness. Immerse yourself in nature and the healing energy of horses... No experience with horses or meditation is necessary.<br />\n<br />\nJoin Anam Cara on August 11th at 9:00 AM CST for a Herd Meditation. Space is limited for this Donation-based event\, so please be sure to RSVP by clicking the Tickets button to secure your spot! </span><a href="https://anamcarastables.as.me/HerdMeditation?fbclid=IwAR23Ypjt8gT9OFiRAGzA4sGN1nx7r6N2V5Xiox4mDahoSrTPEP16TBOXHL8" rel="nofollow noopener" style="color: rgb(56\, 88\, 152)\; cursor: pointer\; text-decoration-line: none\; font-family: Helvetica\, Arial\, sans-serif\; font-size: 14px\; white-space: pre-wrap\;" target="_blank">https://anamcarastables.as.me/HerdMeditation</a><br />\n<br />\n<span style="color:rgb(29\, 33\, 41)\; font-family:helvetica\,arial\,sans-serif\; font-size:14px">Please join us in meditating on the concepts of mindfulness\, true consent and kind boundaries with horses and humans alike.</span><br />\n<br />\n<span style="color:rgb(29\, 33\, 41)\; font-family:helvetica\,arial\,sans-serif\; font-size:14px">Herd Meditation</span><br />\n<span style="color:rgb(29\, 33\, 41)\; font-family:helvetica\,arial\,sans-serif\; font-size:14px">&bull\; Meet &amp\; greet at Anam Cara</span><br />\n<span style="color:rgb(29\, 33\, 41)\; font-family:helvetica\,arial\,sans-serif\; font-size:14px">&bull\; Walk out to join the herd for a partly guided meditation</span><br />\n<span style="color:rgb(29\, 33\, 41)\; font-family:helvetica\,arial\,sans-serif\; font-size:14px">&bull\; Shift into a silent walking meditation with the herd</span><br />\n<span style="color:rgb(29\, 33\, 41)\; font-family:helvetica\,arial\,sans-serif\; font-size:14px">&bull\; Come back together to share our experiences</span><br />\n<span style="color:rgb(29\, 33\, 41)\; font-family:helvetica\,arial\,sans-serif\; font-size:14px">&bull\; Brief closing meditation</span><br />\n<br />\n<span style="color:rgb(29\, 33\, 41)\; font-family:helvetica\,arial\,sans-serif\; font-size:14px">Please dress for the weather\, wear close-toed shoes\, and bring your own portable/camping chair\, water bottle\, journal and whatever you need to be comfortable. </span><br />\n<br />\n<span style="color:rgb(29\, 33\, 41)\; font-family:helvetica\,arial\,sans-serif\; font-size:14px">Suggested donation: $5 - $30</span><br />\n<br />\n<span style="color:rgb(29\, 33\, 41)\; font-family:helvetica\,arial\,sans-serif\; font-size:14px">For more information about the great woman who inspired us all:</span><br />\n<span style="color:rgb(29\, 33\, 41)\; font-family:helvetica\,arial\,sans-serif\; font-size:14px">Ren Hurst: </span><a href="https://l.facebook.com/l.php?u=https%3A%2F%2Fwww.youtube.com%2Fwatch%3Fv%3DRdhRRs1Xi8c%26fbclid%3DIwAR3Zmk48eK6x5P0eLZW2jz33tYn97uBWETRMw3zpVRBqtgnifO78PeQ3Lf4&amp\;h=AT3sdsQ48Jp69GjEv5c0aGGecHO7QnpcWmAF5VCTx5rjKkzO9jd-5SYBUGZd22Z1-Xps0mShL7YrlIEQ-IYmG0WRKhBfWAQ5Gf4umkVf83duY1iRtcL-JOIZNfzOZPus3A" rel="nofollow noopener" style="color: rgb(56\, 88\, 152)\; cursor: pointer\; text-decoration-line: none\; font-family: Helvetica\, Arial\, sans-serif\; font-size: 14px\; white-space: pre-wrap\;" target="_blank">https://www.youtube.com/watch?v=RdhRRs1Xi8c</a><br />\n<span style="color:rgb(29\, 33\, 41)\; font-family:helvetica\,arial\,sans-serif\; font-size:14px">Stormy May: </span><a href="https://l.facebook.com/l.php?u=http%3A%2F%2Fourhorses.org%2F%3Ffbclid%3DIwAR1lHbHFeDgMpMuMwJE43c_xJW3565KidUZlsTNNp5oMbq6xpF8nLRF8Aq4&amp\;h=AT02kB1I3qENiY1W5IHMm7zd30qsas0nKJRafWQ0QvfklrxoeHeNhLpvYmsdQbkYnadSyM_DyTnTJs98JjL0sDoT6PaLy6IPcSQRfGEhtsQSXkJBgDHC5T2QCbG378rHTw" rel="nofollow noopener" style="color: rgb(56\, 88\, 152)\; cursor: pointer\; text-decoration-line: none\; font-family: Helvetica\, Arial\, sans-serif\; font-size: 14px\; white-space: pre-wrap\;" target="_blank">http://ourhorses.org/</a><br />\n<span style="color:rgb(29\, 33\, 41)\; font-family:helvetica\,arial\,sans-serif\; font-size:14px">Healing with Horse Collective: </span><a href="https://l.facebook.com/l.php?u=http%3A%2F%2Fwww.healingwithhorse.org%2Ftele-summit%3Ffbclid%3DIwAR2zupS7DhuerDg8Oy9g_CUxaw6ElBKmT16dLqxOaWIdL7ibJ1ErYLZkt8s&amp\;h=AT12bwbasVhmwPciyvBxXF2PQ4qZgY2etbbhs8LVOwLekqzfxpwxQFNIHQNXRQZEuB0yIlNWIXEKfQGgJe4Q6ZSoUU21_r6H1LtggK52pQEZemJ91OJ2lbC8KmicbW1uig" rel="nofollow noopener" style="color: rgb(56\, 88\, 152)\; cursor: pointer\; text-decoration-line: none\; font-family: Helvetica\, Arial\, sans-serif\; font-size: 14px\; white-space: pre-wrap\;" target="_blank">http://www.healingwithhorse.org/tele-summit</a><br />\n<br />\n<span style="color:rgb(29\, 33\, 41)\; font-family:helvetica\,arial\,sans-serif\; font-size:14px">You can also join the closed Facebook group\, Anam Cara&#39\;s Herd Meditation for more discussion.</span>
LOCATION:Anam Cara - Horses Healing the Human Soul 4298 E 1000 North LaPorte\, IN 46350
UID:e.1949.4510
SEQUENCE:3
DTSTAMP:20260423T095314Z
URL:https://members.laportepartnership.com/events/details/herd-meditation-4510
END:VEVENT

END:VCALENDAR
