BEGIN:VCALENDAR
VERSION:2.0
PRODID:-//ChamberMaster//Event Calendar 2.0//EN
METHOD:PUBLISH
X-PUBLISHED-TTL:P3D
REFRESH-INTERVAL:P3D
CALSCALE:GREGORIAN
BEGIN:VEVENT
DTSTART:20190915T200000Z
DTEND:20190915T220000Z
X-MICROSOFT-CDO-ALLDAYEVENT:FALSE
SUMMARY:Herd Meditation - Family Friendly <3
DESCRIPTION:Family Friendly Meditation with Horses\n\n\n\nEVERYONE can benefit from pausing for a moment\, and taking time from their busy life to be guided through deep breaths\, slowing down enough to notice the gentle rhythm of the horses' breath and gentle heart.\n\n\n\nAllow yourself and your kids to be infused with a powerful sense of well-being\, releasing healing endorphins and feel good hormones which improve the nervous system\, hormonal balance\, and immune-system response. Horses hearts are five times the size of ours\, and research shows that they emit an electromagnetic field that can influence our heart\, causing a more coherent heartbeat. When you are in a coherent state\, your thoughts and emotions are balanced\, and you experience ease and inner harmony. So as we share space with horses in our meditations\, we are only beginning to understand the healing that may be taking place.\n\n\n\nNo experience with horses or meditation is necessary. Join Anam Cara on September 15th at 3:00 PM CST for a Family Friendly Herd Meditation. \n\n\n\nSpace is limited for this Donation-based event\, so please be sure to RSVP by clicking the Tickets button to secure your spot! https://anamcarastables.as.me/HerdMeditations\n\n\n\nPlease dress for the weather \, wear close-toed shoes\, and bring your own portable/camping chair\, water bottle\, journal and whatever you need to be comfortable. \n\n\n\nSuggested donation: $5 - $30\n\n\n\nHerd Meditation\n\n\n\n  Meet & greet at Anam Cara\n\n  Walk out to join the herd for a partly guided meditation\n\n  Shift into a silent walking meditation with the herd\n\n  Come back together to share our experiences\n\n  Brief closing meditation\n\n\n\nYou can also join the closed Facebook group\, Anam Cara's Herd Meditation for more discussion.
X-ALT-DESC;FMTTYPE=text/html:<span style="color:rgb(29\, 33\, 41)\; font-family:helvetica\,arial\,sans-serif\; font-size:14px">Family Friendly Meditation with Horses</span><br />\n<br />\n<span style="color:rgb(29\, 33\, 41)\; font-family:helvetica\,arial\,sans-serif\; font-size:14px">EVERYONE can benefit from pausing for a moment\, and taking time from their busy life to be guided through deep breaths\, slowing down enough to notice the gentle rhythm of the horses&rsquo\; breath and gentle heart.</span><br />\n<br />\n<span style="color:rgb(29\, 33\, 41)\; font-family:helvetica\,arial\,sans-serif\; font-size:14px">Allow yourself and your kids to be infused with a powerful sense of well-being\, releasing healing endorphins and feel good hormones which improve the nervous system\, hormonal balance\, and immune-system response. Horses hearts are five times the size of ours\, and research shows that they emit an electromagnetic field that can influence our heart\, causing a more coherent heartbeat. When you are in a coherent state\, your thoughts and emotions are balanced\, and you experience ease and inner harmony. So as we share space with horses in our meditations\, we are only beginning to understand the healing that may be taking place.</span><br />\n<br />\n<span style="color:rgb(29\, 33\, 41)\; font-family:helvetica\,arial\,sans-serif\; font-size:14px">No experience with horses or meditation is necessary. Join Anam Cara on September 15th at 3:00 PM CST for a Family Friendly Herd Meditation. </span><br />\n<br />\n<span style="color:rgb(29\, 33\, 41)\; font-family:helvetica\,arial\,sans-serif\; font-size:14px">Space is limited for this Donation-based event\, so please be sure to RSVP by clicking the Tickets button to secure your spot! </span><a href="https://l.facebook.com/l.php?u=https%3A%2F%2Fanamcarastables.as.me%2FHerdMeditations%3Ffbclid%3DIwAR2CyirwIvTgTZt7WIkI2JpcOW-qO8g2WGQnxuwGV0F5GbKV64G1oHTiacM&amp\;h=AT0Ll7EEClPSu5CVLai1kD-hJ7IPIlkWM2L5R0s622_eb_hi6fsu2Tk7zzC5wCctelml0fVUiPI6FnWWNF71zIAWTuwcJ9e5stHHMODPpQenTyXdoLrzT1_NlOxZDsfpIA" rel="nofollow noopener" style="color: rgb(56\, 88\, 152)\; cursor: pointer\; text-decoration-line: none\; font-family: Helvetica\, Arial\, sans-serif\; font-size: 14px\; white-space: pre-wrap\;" target="_blank">https://anamcarastables.as.me/HerdMeditations</a><br />\n<br />\n<span style="color:rgb(29\, 33\, 41)\; font-family:helvetica\,arial\,sans-serif\; font-size:14px">Please dress for the weather \, wear close-toed shoes\, and bring your own portable/camping chair\, water bottle\, journal and whatever you need to be comfortable. </span><br />\n<br />\n<span style="color:rgb(29\, 33\, 41)\; font-family:helvetica\,arial\,sans-serif\; font-size:14px">Suggested donation: $5 - $30</span><br />\n<br />\n<span style="color:rgb(29\, 33\, 41)\; font-family:helvetica\,arial\,sans-serif\; font-size:14px">Herd Meditation</span><br />\n<br />\n<span style="color:rgb(29\, 33\, 41)\; font-family:helvetica\,arial\,sans-serif\; font-size:14px">&bull\; Meet &amp\; greet at Anam Cara</span><br />\n<span style="color:rgb(29\, 33\, 41)\; font-family:helvetica\,arial\,sans-serif\; font-size:14px">&bull\; Walk out to join the herd for a partly guided meditation</span><br />\n<span style="color:rgb(29\, 33\, 41)\; font-family:helvetica\,arial\,sans-serif\; font-size:14px">&bull\; Shift into a silent walking meditation with the herd</span><br />\n<span style="color:rgb(29\, 33\, 41)\; font-family:helvetica\,arial\,sans-serif\; font-size:14px">&bull\; Come back together to share our experiences</span><br />\n<span style="color:rgb(29\, 33\, 41)\; font-family:helvetica\,arial\,sans-serif\; font-size:14px">&bull\; Brief closing meditation</span><br />\n<br />\n<span style="color:rgb(29\, 33\, 41)\; font-family:helvetica\,arial\,sans-serif\; font-size:14px">You can also join the closed Facebook group\, Anam Cara&#39\;s Herd Meditation for more discussion.</span>
LOCATION:Anam Cara 4298 E 1000 North LaPorte\, IN 46350
UID:e.1949.4521
SEQUENCE:3
DTSTAMP:20260423T082300Z
URL:https://members.laportepartnership.com/events/details/herd-meditation-family-friendly-3-4521
END:VEVENT

END:VCALENDAR
