BEGIN:VCALENDAR
VERSION:2.0
PRODID:-//ChamberMaster//Event Calendar 2.0//EN
METHOD:PUBLISH
X-PUBLISHED-TTL:P3D
REFRESH-INTERVAL:P3D
CALSCALE:GREGORIAN
BEGIN:VEVENT
DTSTART:20180620T210000Z
DTEND:20180620T230000Z
X-MICROSOFT-CDO-ALLDAYEVENT:FALSE
SUMMARY:Heston Hills Event Center Ribbon Cutting
DESCRIPTION:Heston Hills Event Center recently renovated its location at 1933 E. 800 N.\, La Porte\, IN 46350. To celebrate\, the event space will conduct a ribbon cutting with area chambers of commerce and will host an open house on June 20. The open house will take place from 4:00 p.m.-6:00 p.m. CDT with the ribbon cutting officially taking place at 4:30 p.m. CDT.\n\nHeston Hills Event Center is located on eight rolling acres in beautiful Galena Township in Northern LaPorte County\, Indiana. Heston Hills is a one of a kind Event Center offering endless possibilities with indoor and outdoor spaces. From an outdoor wedding ceremony under the arbor overlooking the pond and sloping hills to a wedding reception in the Galena Room draped with fabric centering a gorgeous chandelier. They bring the culinary expertise of Heston Supper Club to special events with full on-site catering\, providing an excellent dining experience. Whether it's an extravagant plated dinner\, a casual prime rib buffet or an ice cream bar to compliment your wedding cake\, they strive to make your special event a memorable one. Their professional staff will put you at ease\, paying attention to the details\, to give your event a personal touch.\n\nFor more information about Heston Hills\, call 219.778.9595 for a tour of the beautiful event center or email ino@hestonhills.com.
X-ALT-DESC;FMTTYPE=text/html:<span style="font-family:georgia\,serif\;"><span style="font-size:12.0pt\;">Heston Hills Event Center recently renovated its location at 1933 E. 800 N.\, La Porte\, IN 46350. To celebrate\, the event space will conduct a ribbon cutting with area chambers of commerce and will host an open house on June 20. The open house will take place from 4:00 p.m.-6:00 p.m. CDT with the ribbon cutting officially taking place at 4:30 p.m. CDT.</span></span><br />\n<span style="font-family:georgia\,serif\;"><span style="font-size:12.0pt\;">Heston Hills Event Center is located on eight rolling acres in beautiful Galena Township in Northern LaPorte County\, Indiana. Heston Hills is a one of a kind Event Center offering endless possibilities with indoor and outdoor spaces. From an outdoor wedding ceremony under the arbor overlooking the pond and sloping hills to a wedding reception in the Galena Room draped with fabric centering a gorgeous chandelier. They bring the culinary expertise of Heston Supper Club to special events with full on-site catering\, providing an excellent dining experience. Whether it&rsquo\;s an extravagant plated dinner\, a casual prime rib buffet or an ice cream bar to compliment your wedding cake\, they strive to make your special event a memorable one. Their professional staff will put you at ease\, paying attention to the details\, to give your event a personal touch.</span></span><br />\n<span style="font-family:georgia\,serif\;"><span style="font-size:12.0pt\;">For more information about Heston Hills\, call 219.778.9595 for a tour of the beautiful event center or email ino@hestonhills.com.</span></span>
LOCATION:Heston Hills Event Center 1933 E. 800 N. La Porte
UID:e.1949.4170
SEQUENCE:3
DTSTAMP:20260424T084845Z
URL:https://members.laportepartnership.com/events/details/heston-hills-event-center-ribbon-cutting-4170
END:VEVENT

END:VCALENDAR
