BEGIN:VCALENDAR
VERSION:2.0
PRODID:-//ChamberMaster//Event Calendar 2.0//EN
METHOD:PUBLISH
X-PUBLISHED-TTL:P3D
REFRESH-INTERVAL:P3D
CALSCALE:GREGORIAN
BEGIN:VEVENT
DTSTART:20180417T000000Z
DTEND:20180417T013000Z
X-MICROSOFT-CDO-ALLDAYEVENT:FALSE
SUMMARY:Hillsong Worship Coming to Michigan City- Road to Life Church
DESCRIPTION:The "There Is More" Tour\, Featuring Hillsong Worship and Pastor Brian Houston\, will be making a stop at Road to Life Church\n \n\nMichigan City\, IN - March 29\, 2018 --  The "There Is More" tour\, with Hillsong Worship & Pastor Brian Houston\, is coming to Road To Life Church April 16th!  Don't miss this incredible night of worship and teaching! Tickets are selling quickly and can be purchased at www.premierproductions.com or www.roadtolife.church. Hillsong Worship Team Leaders will vary per event\, and every ticket includes the book\, "There Is More\," by Brian Houston\n\n \n\nNight of Worship and Teaching\n \n\nWho: Everyone\n\nWhat:  "There Is More" tour\, featuring Hillsong Worship and Pastor Brian Houston\n\nWhere: Road to Life Church\, 7056 W 450 N\, Michigan City\, IN 46360\n\nWhen: April 16\, 2018 at 7:00PM\n \n\nABOUT ROAD TO LIFE CHURCH:\n \n\nRoad to Life is a thriving church that offers cutting edge worship as well as teaching that is relevant to this generation. We exist to help people realize and reach their potential in Christ. We are a local church that is Kingdom driven\, community minded and people focused. We are passionate for Christ\, powerful thru Christ and have potential in Christ. For more information about RTLC or any of our upcoming events\, please visit our website (www.roadtolife.church) or call 219-728-6290. You can also follow us on Twitter and instagram @roadchurch or find us on Facebook @roadtolifechurch.
X-ALT-DESC;FMTTYPE=text/html:<p dir="ltr" id="docs-internal-guid-5bb98aa6-87c6-1772-9f31-1ca278e9b030" style="line-height:1.38\;margin-top:0pt\;margin-bottom:0pt\;"><span style="font-size: 14pt\; font-family: Arial\; color: rgb(0\, 0\, 0)\; background-color: transparent\; font-weight: 700\; font-variant-numeric: normal\; font-variant-east-asian: normal\; vertical-align: baseline\; white-space: pre-wrap\;">The &ldquo\;There Is More&rdquo\; Tour\, Featuring Hillsong Worship and Pastor Brian Houston\, will be making a stop at Road to Life Church</span></p>\n&nbsp\;\n\n<p dir="ltr" style="line-height:1.38\;margin-top:0pt\;margin-bottom:0pt\;"><span style="font-size: 11pt\; font-family: Arial\; color: rgb(0\, 0\, 0)\; background-color: transparent\; font-variant-numeric: normal\; font-variant-east-asian: normal\; vertical-align: baseline\; white-space: pre-wrap\;">Michigan City\, IN - March 29\, 2018 -- </span><span style="font-size: 10.5pt\; font-family: Arial\; color: rgb(75\, 79\, 86)\; font-variant-numeric: normal\; font-variant-east-asian: normal\; vertical-align: baseline\; white-space: pre-wrap\;">&nbsp\;The &ldquo\;There Is More&rdquo\; tour\, with Hillsong Worship &amp\; Pastor Brian Houston\, is coming to Road To Life Church April 16th! &nbsp\;Don&rsquo\;t miss this incredible night of worship and teaching! Tickets are selling quickly and can be purchased at </span><a href="http://www.premierproductions.com" style="text-decoration-line: none\;"><span style="font-size: 10.5pt\; font-family: Arial\; color: rgb(17\, 85\, 204)\; font-variant-numeric: normal\; font-variant-east-asian: normal\; text-decoration-line: underline\; text-decoration-skip-ink: none\; vertical-align: baseline\; white-space: pre-wrap\;">www.premierproductions.com</span></a><span style="font-size: 10.5pt\; font-family: Arial\; color: rgb(75\, 79\, 86)\; font-variant-numeric: normal\; font-variant-east-asian: normal\; vertical-align: baseline\; white-space: pre-wrap\;"> or </span><a href="http://www.roadtolife.church" style="text-decoration-line: none\;"><span style="font-size: 10.5pt\; font-family: Arial\; color: rgb(17\, 85\, 204)\; font-variant-numeric: normal\; font-variant-east-asian: normal\; text-decoration-line: underline\; text-decoration-skip-ink: none\; vertical-align: baseline\; white-space: pre-wrap\;">www.roadtolife.church</span></a><span style="font-size: 10.5pt\; font-family: Arial\; color: rgb(75\, 79\, 86)\; font-variant-numeric: normal\; font-variant-east-asian: normal\; vertical-align: baseline\; white-space: pre-wrap\;">. Hillsong Worship Team Leaders will vary per event\, and every ticket includes the book\, &quot\;There Is More\,&quot\; by Brian Houston</span></p>\n\n<p dir="ltr" style="line-height:1.38\;margin-top:0pt\;margin-bottom:0pt\;text-indent: 36pt\;">&nbsp\;</p>\n\n<p dir="ltr" style="line-height:1.38\;margin-top:0pt\;margin-bottom:0pt\;"><span style="font-size: 12pt\; font-family: Arial\; color: rgb(0\, 0\, 0)\; background-color: transparent\; font-weight: 700\; font-style: italic\; font-variant-numeric: normal\; font-variant-east-asian: normal\; vertical-align: baseline\; white-space: pre-wrap\;">Night of Worship and Teaching</span></p>\n&nbsp\;\n\n<p dir="ltr" style="line-height:1.38\;margin-top:0pt\;margin-bottom:0pt\;"><span style="font-size: 11pt\; font-family: Arial\; color: rgb(0\, 0\, 0)\; background-color: transparent\; font-variant-numeric: normal\; font-variant-east-asian: normal\; vertical-align: baseline\; white-space: pre-wrap\;">Who: Everyone</span></p>\n\n<p dir="ltr" style="line-height:1.38\;margin-top:0pt\;margin-bottom:0pt\;"><span style="font-size: 11pt\; font-family: Arial\; color: rgb(0\, 0\, 0)\; background-color: transparent\; font-variant-numeric: normal\; font-variant-east-asian: normal\; vertical-align: baseline\; white-space: pre-wrap\;">What: &nbsp\;&ldquo\;There Is More&rdquo\; tour\, featuring Hillsong Worship and Pastor Brian Houston</span></p>\n\n<p dir="ltr" style="line-height:1.38\;margin-top:0pt\;margin-bottom:0pt\;"><span style="font-size: 11pt\; font-family: Arial\; color: rgb(0\, 0\, 0)\; background-color: transparent\; font-variant-numeric: normal\; font-variant-east-asian: normal\; vertical-align: baseline\; white-space: pre-wrap\;">Where: Road to Life Church\, 7056 W 450 N\, Michigan City\, IN 46360</span></p>\n\n<p dir="ltr" style="line-height:1.38\;margin-top:0pt\;margin-bottom:0pt\;"><span style="font-size: 11pt\; font-family: Arial\; color: rgb(0\, 0\, 0)\; background-color: transparent\; font-variant-numeric: normal\; font-variant-east-asian: normal\; vertical-align: baseline\; white-space: pre-wrap\;">When: April 16\, 2018 at 7:00PM</span></p>\n&nbsp\;\n\n<p dir="ltr" style="line-height:1.38\;margin-top:0pt\;margin-bottom:0pt\;"><span style="font-size: 11pt\; font-family: Arial\; color: rgb(0\, 0\, 0)\; background-color: transparent\; font-weight: 700\; font-style: italic\; font-variant-numeric: normal\; font-variant-east-asian: normal\; vertical-align: baseline\; white-space: pre-wrap\;">ABOUT ROAD TO LIFE CHURCH:</span></p>\n&nbsp\;\n\n<p dir="ltr" style="line-height:1.38\;margin-top:0pt\;margin-bottom:0pt\;"><span style="font-size: 11pt\; font-family: Arial\; color: rgb(0\, 0\, 0)\; background-color: transparent\; font-variant-numeric: normal\; font-variant-east-asian: normal\; vertical-align: baseline\; white-space: pre-wrap\;">Road to Life is a thriving church that offers cutting edge worship as well as teaching that is relevant to this generation. We exist to help people realize and reach their potential in Christ. We are a local church that is Kingdom driven\, community minded and people focused. We are passionate for Christ\, powerful thru Christ and have potential in Christ. For more information about RTLC or any of our upcoming events\, please visit our website (</span><a href="http://www.roadtolife.church" style="text-decoration-line: none\;"><span style="font-size: 11pt\; font-family: Arial\; color: rgb(17\, 85\, 204)\; background-color: transparent\; font-variant-numeric: normal\; font-variant-east-asian: normal\; text-decoration-line: underline\; text-decoration-skip-ink: none\; vertical-align: baseline\; white-space: pre-wrap\;">www.roadtolife.church</span></a><span style="font-size: 11pt\; font-family: Arial\; color: rgb(0\, 0\, 0)\; background-color: transparent\; font-variant-numeric: normal\; font-variant-east-asian: normal\; vertical-align: baseline\; white-space: pre-wrap\;">) or call 219-728-6290. You can also follow us on Twitter and instagram @roadchurch or find us on Facebook @roadtolifechurch.</span></p>\n
LOCATION:Road to Life Church 7056 W. 450 N. Michigan City
UID:e.1949.4094
SEQUENCE:3
DTSTAMP:20260424T120056Z
URL:https://members.laportepartnership.com/events/details/hillsong-worship-coming-to-michigan-city-road-to-life-church-4094
END:VEVENT

END:VCALENDAR
