BEGIN:VCALENDAR
VERSION:2.0
PRODID:-//ChamberMaster//Event Calendar 2.0//EN
METHOD:PUBLISH
X-PUBLISHED-TTL:P3D
REFRESH-INTERVAL:P3D
CALSCALE:GREGORIAN
BEGIN:VEVENT
DTSTART:20160719T163000Z
DTEND:20160719T180000Z
X-MICROSOFT-CDO-ALLDAYEVENT:FALSE
SUMMARY:HIP Link Educational Luncheon Seminar
DESCRIPTION:What is HIP Link? Do I have employees that qualify? How will this help the company and our employees?\n\n\n\nYou are invited to attend an educational luncheon seminar on Tuesday\, July 19\, 11:30 a.m.-1:00 p.m. at United Way of LaPorte County\, 115 E. 4th Street\, Michigan City.\n\n\n\n"Introducing Indiana's new HIP employer benefit link (HIP Link) program" -Featuring Kayla Hsu\, HIP Link Outreach Coordinator -\n\n\n\nEmployer Benefits: Improve employee retention and recruiting tool\; Increased participation which could lead to lower group insurance costs\n\nEmployee Benefits: A federally funded $4\,000 Personal Wellness and Responsibility (POWER) account that can be used to pay health insurance premiums\, deductible\, and co-pays while on the employer's group health insurance plan\n\n\n\nWho Qualifies? a) Indiana residents\, between the ages of 19 and 64\, b) who have a household annual income of less than: # in Household 1 = $16\,590\, 2 = $22\,372\, 3 = $28\,153\, 5 = $39\,716 c) who have access to their employer's health insurance\n\n\n\nLunch will be provided. Please RSVP by Friday\, July 15\, to Mary Thomas at (574) 271-5200 at 1st Source Insurance.
X-ALT-DESC;FMTTYPE=text/html:What is HIP Link? Do I have employees that qualify? How will this help the company and our employees?<br />\n<br />\nYou are invited to attend an educational luncheon seminar on Tuesday\, July 19\, 11:30 a.m.-1:00 p.m. at United Way of LaPorte County\, 115 E. 4th Street\, Michigan City.<br />\n<br />\n&quot\;Introducing Indiana&#39\;s new HIP employer benefit link (HIP Link) program&quot\; -Featuring Kayla Hsu\, HIP Link Outreach Coordinator -<br />\n<br />\nEmployer Benefits: Improve employee retention and recruiting tool\; Increased participation which could lead to lower group insurance costs<br />\nEmployee Benefits: A federally funded $4\,000 Personal Wellness and Responsibility (POWER) account that can be used to pay health insurance premiums\, deductible\, and co-pays while on the employer&#39\;s group health insurance plan<br />\n<br />\nWho Qualifies? a) Indiana residents\, between the ages of 19 and 64\, b) who have a household annual income of less than: # in Household 1 = $16\,590\, 2 = $22\,372\, 3 = $28\,153\, 5 = $39\,716 c) who have access to their employer&#39\;s health insurance<br />\n<br />\nLunch will be provided. Please RSVP by Friday\, July 15\, to Mary Thomas at (574) 271-5200 at 1st Source Insurance.
LOCATION:United Way of LaPorte County 115 East 4th Street Michigan City
UID:e.1949.2587
SEQUENCE:3
DTSTAMP:20260426T021354Z
URL:https://members.laportepartnership.com/events/details/hip-link-educational-luncheon-seminar-07-19-2016-2587
END:VEVENT

END:VCALENDAR
