BEGIN:VCALENDAR
VERSION:2.0
PRODID:-//ChamberMaster//Event Calendar 2.0//EN
METHOD:PUBLISH
X-PUBLISHED-TTL:P3D
REFRESH-INTERVAL:P3D
CALSCALE:GREGORIAN
BEGIN:VEVENT
DTSTART:20180418T223000Z
DTEND:20180419T000000Z
X-MICROSOFT-CDO-ALLDAYEVENT:FALSE
SUMMARY:Hire A Slicer Website Launch Event
DESCRIPTION:REGISTER NOW to attend the launch event of Hire A Slicer a new\, local personnel recruitment tool/initiative on Wednesday\, April 18 from 5:30 PM - 7:00 PM CDT at the LPCSC Educational Services Center\, 1921 A Street\, La Porte***Location subject to change depending on attendance***.\n\n \n\nYou are cordially invited to a reception hosted by the Greater La Porte Chamber of Commerce. During the evening you will have the opportunity to learn more about Hire A Slicer.  Local partners\, working together\, are leveraging technology to fuel the connection between graduated seniors and the business community. Slicers graduate LaPorte High School prepared to meet the challenges and opportunities of entering the workplace and building careers. \n\n \n\nYou and your company will get to experience our innovative tool that can help you put together a rock star team.  You will be offered first-hand access to resumes of current and recent La Porte High School graduates AND receive on-line access to post job openings. \n\n \n\nMake the choice to support our community while recognizing the quality and the potential of our local Slicers.\n\n\n\nWe hope you can make it!
X-ALT-DESC;FMTTYPE=text/html:<strong><span style="font-size:12.0pt\;">REGISTER NOW</span></strong><span style="font-size:12.0pt\;"> to attend the launch event of <em>Hire A Slicer</em>&mdash\;a new\, local personnel recruitment tool/initiative&nbsp\;on Wednesday\, April 18 from </span><span style="font-size:12.0pt\;">5:30 PM</span><span style="font-size:12.0pt\;"> - </span><span style="font-size:12.0pt\;">7:00 PM CDT at the </span><strong><span style="font-family:calibri\,sans-serif\;"><span style="font-size:12.0pt\;">LPCSC Educational Services Center\, 1921 A Street\, La Porte***Location subject to change depending on attendance***</span></span></strong><strong><span style="font-size:12.0pt\;">.</span></strong><br />\n&nbsp\;<br />\n<span style="font-size:12.0pt\;">You are cordially invited to a reception&nbsp\;hosted by the Greater La Porte Chamber of Commerce. During the evening you will have the opportunity to learn more about <em>Hire A Slicer</em>. &nbsp\;Local partners\, working together\, are leveraging technology to fuel the connection between graduated seniors and the business community. Slicers graduate LaPorte High School prepared to meet the challenges and opportunities of entering the workplace and building careers. </span><br />\n&nbsp\;<br />\n<span style="font-size:12.0pt\;">You and your company will get to experience our innovative tool that can help you put together a rock star team.&nbsp\; You will be offered first-hand access to resumes of current and recent La Porte High School graduates AND receive on-line access to post job openings. </span><br />\n&nbsp\;<br />\n<span style="font-size:12.0pt\;">Make the choice to support our community while recognizing the quality and the potential of our local <em>Slicers.</em></span><br />\n<br />\n<span style="font-size:12.0pt\;">We hope you can make it!</span><br />\n&nbsp\;
LOCATION:LPCSC Educational Services Center 1921 A Street\, La Porte ***Location subject to change depending on attedance***
UID:e.1949.3080
SEQUENCE:3
DTSTAMP:20260424T115240Z
URL:https://members.laportepartnership.com/events/details/hire-a-slicer-website-launch-event-3080
END:VEVENT

END:VCALENDAR
