BEGIN:VCALENDAR
VERSION:2.0
PRODID:-//ChamberMaster//Event Calendar 2.0//EN
METHOD:PUBLISH
X-PUBLISHED-TTL:P3D
REFRESH-INTERVAL:P3D
CALSCALE:GREGORIAN
BEGIN:VEVENT
DTSTART:20190404T230000Z
DTEND:20190405T010000Z
X-MICROSOFT-CDO-ALLDAYEVENT:FALSE
SUMMARY:History on Tap
DESCRIPTION:Join us for our monthly lecture series on the social history of the Gilded Age\, with craft beer served by Zorn Brew Works. The lecture is free and open to the public. Call 219-873-1520 or visit barkermansion.com for more information.
X-ALT-DESC;FMTTYPE=text/html:Join us for our monthly lecture series on the social history of the Gilded Age\, with craft beer served by Zorn Brew Works. The lecture is free and open to the public. Call 219-873-1520 or visit barkermansion.com for more information.
LOCATION:Barker Mansion 631 Washington St. Michigan City IN\, 46360
UID:e.1949.4287
SEQUENCE:3
DTSTAMP:20260423T165439Z
URL:https://members.laportepartnership.com/events/details/history-on-tap-4287
END:VEVENT

END:VCALENDAR
